BEGIN:VCALENDAR
VERSION:2.0
PRODID:-//Sole Relax - ECPv4.5.13//NONSGML v1.0//EN
CALSCALE:GREGORIAN
METHOD:PUBLISH
X-WR-CALNAME:Sole Relax
X-ORIGINAL-URL:https://solerelax.it
X-WR-CALDESC:Events for Sole Relax
BEGIN:VEVENT
DTSTART;VALUE=DATE:20200628
DTEND;VALUE=DATE:20200628
DTSTAMP:20260422T180555
CREATED:20200625T153033Z
LAST-MODIFIED:20200625T153635Z
UID:5009-1593302400-1593388799@solerelax.it
SUMMARY:Domenica Latina - eventi Desenzano Giugno 2020
DESCRIPTION:Eventi Desenzano Giugno 2020\nEventi Desenzano Giugno 2020: Inizia con l’ultima Domenica di Giugno la stagione a Cala de Or!\nQuest’anno iniziamo tardi\, ma abbiamo intenzione di iniziare alla grande con la Domenica Latina!\nDurante l’evento sarà importante l’aiuto di tutti nel prestare attenzione alle norme vigenti anti-covid 19 ma siamo certi che sarà possibile divertirsi in sicurezza. \nDalle 17:00 aperitivo in spiaggia con dj set\, ma potete stare con noi fin dal primo mattino con la colazione e prenotare al numero 342 306 4016 il vostro ombrellone già ora!\nSe siete pronti per l’estate\, vi aspettiamo a Cala de Or! \nCi trovate in via Zamboni\, Loc. Spiaggia d’Oro a Desenzano del Garda (BS). \n
URL:https://solerelax.it/event/domenica-latina-eventi-desenzano-giugno-2020/
LOCATION:Via Zamboni - Loc. Spiaggia d'Oro\, Desenzano del Garda\, Brescia\, 25015\, Italia
CATEGORIES:Bar Cala de Or
ATTACH;FMTTYPE=image/jpeg:https://solerelax.it/wp-content/uploads/2020/06/domenica-latina-.jpg
END:VEVENT
END:VCALENDAR