BEGIN:VCALENDAR
VERSION:2.0
PRODID:-//Sole Relax - ECPv4.5.13//NONSGML v1.0//EN
CALSCALE:GREGORIAN
METHOD:PUBLISH
X-WR-CALNAME:Sole Relax
X-ORIGINAL-URL:https://solerelax.it
X-WR-CALDESC:Events for Sole Relax
BEGIN:VEVENT
DTSTART;TZID=UTC+0:20191005T100000
DTEND;TZID=UTC+0:20191005T100000
DTSTAMP:20260423T065400
CREATED:20190726T112931Z
LAST-MODIFIED:20190830T135848Z
UID:4785-1570269600-1570269600@solerelax.it
SUMMARY:Frecce Tricolori - Ali su Desenzano
DESCRIPTION:Frecce Tricolori – Ali su Desenzano\nSabato 5 e Domenica 6 Ottobre dalle ore 10:00 le Frecce Tricolori della pattuglia acrobatica nazionale si esibiranno sulla splendida città di Desenzano del Garda.\nCentro della Manifestazione aerea la Spiaggia d’Oro\, vi aspettiamo a Cala de Or a godervi lo spettacolo con noi!\nUn incredibile weekend per ammirare la PAN sul lago di Garda. \n
URL:https://solerelax.it/event/frecce-tricolori-ali-desenzano/
LOCATION:Via Zamboni - Loc. Spiaggia d'Oro\, Desenzano del Garda\, Brescia\, 25015\, Italia
CATEGORIES:Bar Cala de Or
ATTACH;FMTTYPE=image/jpeg:https://solerelax.it/wp-content/uploads/2019/07/frecce-tricolori-definitivissimo-FILEminimizer.jpg
END:VEVENT
END:VCALENDAR