BEGIN:VCALENDAR
VERSION:2.0
PRODID:-//Sole Relax - ECPv4.5.13//NONSGML v1.0//EN
CALSCALE:GREGORIAN
METHOD:PUBLISH
X-WR-CALNAME:Sole Relax
X-ORIGINAL-URL:https://solerelax.it
X-WR-CALDESC:Events for Sole Relax
BEGIN:VEVENT
DTSTART;TZID=UTC+0:20190714T160000
DTEND;TZID=UTC+0:20190714T160000
DTSTAMP:20260423T114124
CREATED:20190618T095621Z
LAST-MODIFIED:20190708T071133Z
UID:4703-1563120000-1563120000@solerelax.it
SUMMARY:La Domenica Latina - Cala de Or
DESCRIPTION:La Domenica Latina\nOgni Domenica è festa a Cala de Or con La Domenica Latina\, l’evento più atteso alla Spiaggia d’Oro di Desenzano del Garda.\nDalle 16:00 vi aspettiamo con la musica di Dj Teddy e l’animazione di Ashe e Pablo.\nNon mancate! Ci trovate in via Zamboni a Desenzano del Garda (BS). \n
URL:https://solerelax.it/event/domenica-latina-cala-de-or-5/
LOCATION:Via Zamboni - Loc. Spiaggia d'Oro\, Desenzano del Garda\, Brescia\, 25015\, Italia
CATEGORIES:Bar Cala de Or
ATTACH;FMTTYPE=image/jpeg:https://solerelax.it/wp-content/uploads/2019/06/domenica-latina-ogni-domenica-FILEminimizer.jpg
END:VEVENT
END:VCALENDAR