BEGIN:VCALENDAR
VERSION:2.0
PRODID:-//Sole Relax - ECPv4.5.13//NONSGML v1.0//EN
CALSCALE:GREGORIAN
METHOD:PUBLISH
X-WR-CALNAME:Sole Relax
X-ORIGINAL-URL:https://solerelax.it
X-WR-CALDESC:Events for Sole Relax
BEGIN:VEVENT
DTSTART;TZID=UTC+0:20190602T160000
DTEND;TZID=UTC+0:20190602T160000
DTSTAMP:20260423T130259
CREATED:20190523T071357Z
LAST-MODIFIED:20190523T071357Z
UID:4642-1559491200-1559491200@solerelax.it
SUMMARY:La Domenica Latina -  Cala de Or
DESCRIPTION:La Domenica Latina\nA Cala de Or anticipiamo l’estate\, iniziamo già dalla prima Domenica di Giugno la sessione estiva dell’evento più amato in Spiaggia d’Oro: La Domenica Latina.\nDomenica 2 Giugno vi aspettiamo dalle 16:00 con la musica di Dj Teddy e l’animazione di Ashe e Pablo per fare insieme aperitivo e serata!\nCi trovate sempre alla Spiaggia d’Oro in via Zamboni\, Desenzano del Garda. \n
URL:https://solerelax.it/event/la-domenica-latina-cala-de-or/
LOCATION:Via Zamboni - Loc. Spiaggia d'Oro\, Desenzano del Garda\, Brescia\, 25015\, Italia
CATEGORIES:Bar Cala de Or
ATTACH;FMTTYPE=image/jpeg:https://solerelax.it/wp-content/uploads/2019/05/la-domenica-latina-FILEminimizer.jpg
END:VEVENT
END:VCALENDAR