BEGIN:VCALENDAR
VERSION:2.0
PRODID:-//Sole Relax - ECPv4.5.13//NONSGML v1.0//EN
CALSCALE:GREGORIAN
METHOD:PUBLISH
X-WR-CALNAME:Sole Relax
X-ORIGINAL-URL:https://solerelax.it
X-WR-CALDESC:Events for Sole Relax
BEGIN:VEVENT
DTSTART;TZID=UTC+0:20190428T160000
DTEND;TZID=UTC+0:20190428T160000
DTSTAMP:20260423T161204
CREATED:20190419T075201Z
LAST-MODIFIED:20190419T075201Z
UID:4603-1556467200-1556467200@solerelax.it
SUMMARY:Domenica Latina Appuntamenti Speciali
DESCRIPTION:Domenica Latina Appuntamenti Speciali\nVi aspettiamo il 28 Aprile a Cala de Or per il terzo appuntamento con la Domenica Latina Appuntamenti Speciali.\nIn console dalle 16:00 Dj Teddy\, con l’animazione di Ashe e Pablo.\nCi troviamo in via Zamboni\, presso la Spiaggia d’Oro di Desenzano del Garda (BS) \n
URL:https://solerelax.it/event/domenica-latina-appuntamenti-speciali-2/
LOCATION:Via Zamboni - Loc. Spiaggia d'Oro\, Desenzano del Garda\, Brescia\, 25015\, Italia
CATEGORIES:Bar Cala de Or
ATTACH;FMTTYPE=image/jpeg:https://solerelax.it/wp-content/uploads/2019/04/domenica-latina-appuntamenti-speciali.jpg
END:VEVENT
END:VCALENDAR