BEGIN:VCALENDAR
VERSION:2.0
PRODID:-//Sole Relax - ECPv4.5.13//NONSGML v1.0//EN
CALSCALE:GREGORIAN
METHOD:PUBLISH
X-WR-CALNAME:Sole Relax
X-ORIGINAL-URL:https://solerelax.it
X-WR-CALDESC:Events for Sole Relax
BEGIN:VEVENT
DTSTART;TZID=UTC+0:20190425T160000
DTEND;TZID=UTC+0:20190425T160000
DTSTAMP:20260423T161202
CREATED:20190419T073851Z
LAST-MODIFIED:20190419T073851Z
UID:4601-1556208000-1556208000@solerelax.it
SUMMARY:Domenica Latina Appuntamenti Speciali
DESCRIPTION:Domenica Latina Appuntamenti Speciali\nVi aspettiamo il 25 Aprile a Cala de Or per il secondo appuntamento con la Domenica Latina Appuntamenti Speciali.\nIn console dalle 16:00 per portarci all’aperitivo ed oltre Dj Teddy\, accompagnato dall’animazione di Ashe e Pablo.\nCi troviamo in via Zamboni\, presso la Spiaggia d’Oro di Desenzano del Garda (BS)\nSeguici anche su Facebook ed Instagram di Cala de Or e Facebook ed Intagram di Sole Relax per non perderti nessun evento! \n
URL:https://solerelax.it/event/domenica-latina-appuntamenti-speciali/
LOCATION:Via Zamboni - Loc. Spiaggia d'Oro\, Desenzano del Garda\, Brescia\, 25015\, Italia
CATEGORIES:Bar Cala de Or
ATTACH;FMTTYPE=image/jpeg:https://solerelax.it/wp-content/uploads/2019/04/domenica-latina-appuntamenti-speciali.jpg
END:VEVENT
END:VCALENDAR