BEGIN:VCALENDAR
VERSION:2.0
PRODID:-//Sole Relax - ECPv4.5.13//NONSGML v1.0//EN
CALSCALE:GREGORIAN
METHOD:PUBLISH
X-WR-CALNAME:Sole Relax
X-ORIGINAL-URL:https://solerelax.it
X-WR-CALDESC:Events for Sole Relax
BEGIN:VEVENT
DTSTART;TZID=UTC+0:20181021T150000
DTEND;TZID=UTC+0:20181021T190000
DTSTAMP:20260424T015258
CREATED:20181015T134939Z
LAST-MODIFIED:20181015T134939Z
UID:4531-1540134000-1540148400@solerelax.it
SUMMARY:Domingo a la Playa - Domenica Latina
DESCRIPTION:DOMINGO A LA PLAYA\n☀✴️☀️🌞 🌞☀️✴️☀☀✴️☀️🌞 🌞☀️✴️☀ \nOGNI DOMENICA DI OTTOBRE\n💃🕺#DomenicaLatina 💃🕺 \n🕒 DALLE 15:00 aperitivo in spiaggia\n🔊 INGRESSO GRATUITO \n🎶 In console\n🎧 DJ TEDDY \n🎇 Entra a far parte della Familia Latina di Cala de Or! \n📍 CALA DE OR\nVia Zamboni\nLoc. Spiaggia d’Oro\nDesenzano del Garda (BS) \n📞 Info e prenotazione postazioni: 342 306 4016 \n✅www.solerelax.it\nFacebook: Cala de Or\nInstagram: CaladeOr \n
URL:https://solerelax.it/event/domingo-la-playa-domenica-latina-2/
LOCATION:Via Zamboni - Loc. Spiaggia d'Oro\, Desenzano del Garda\, Brescia\, 25015\, Italia
CATEGORIES:Bar Cala de Or
ATTACH;FMTTYPE=image/jpeg:https://solerelax.it/wp-content/uploads/2018/10/domingo-a-la-playa-tutto-mese-FILEminimizer.jpg
END:VEVENT
END:VCALENDAR