BEGIN:VCALENDAR
VERSION:2.0
PRODID:-//Sole Relax - ECPv4.5.13//NONSGML v1.0//EN
CALSCALE:GREGORIAN
METHOD:PUBLISH
X-WR-CALNAME:Sole Relax
X-ORIGINAL-URL:https://solerelax.it
X-WR-CALDESC:Events for Sole Relax
BEGIN:VEVENT
DTSTART;TZID=UTC+0:20180908T160000
DTEND;TZID=UTC+0:20180908T160000
DTSTAMP:20260424T033759
CREATED:20180829T100953Z
LAST-MODIFIED:20180829T140018Z
UID:4462-1536422400-1536422400@solerelax.it
SUMMARY:End of the Summer Party
DESCRIPTION:End of the Summer Party\nL’evento ufficiale di Radio Viva Fm a Cala de Or per un Sabato spettacolare!\nSabato 8 Settembre dalle 16:00 con la musica di Skegia Dj\, voice Rudy ed animazione Cristina.\nCi trovate in via Zamboni\, loc. Spiaggia d’Oro\, Desenzano del Garda (BS). \n
URL:https://solerelax.it/event/end-of-the-summer-party/
LOCATION:Via Zamboni - Loc. Spiaggia d'Oro\, Desenzano del Garda\, Brescia\, 25015\, Italia
CATEGORIES:Bar Cala de Or
ATTACH;FMTTYPE=image/jpeg:https://solerelax.it/wp-content/uploads/2018/08/settembre-orange-light.jpg
END:VEVENT
END:VCALENDAR