BEGIN:VCALENDAR
VERSION:2.0
PRODID:-//Sole Relax - ECPv4.5.13//NONSGML v1.0//EN
CALSCALE:GREGORIAN
METHOD:PUBLISH
X-WR-CALNAME:Sole Relax
X-ORIGINAL-URL:https://solerelax.it
X-WR-CALDESC:Events for Sole Relax
BEGIN:VEVENT
DTSTART;TZID=UTC+0:20180726T180000
DTEND;TZID=UTC+0:20180729T233000
DTSTAMP:20260424T064251
CREATED:20180723T093148Z
LAST-MODIFIED:20180723T093148Z
UID:4404-1532628000-1532907000@solerelax.it
SUMMARY:Eatinero
DESCRIPTION:Eatinero\nLo street food arriva in Spiaggia d’Oro a Desenzano del Garda (BS) \n
URL:https://solerelax.it/event/eatinero/
LOCATION:Via Zamboni - Loc. Spiaggia d'Oro\, Desenzano del Garda\, Brescia\, 25015\, Italia
CATEGORIES:Bar Cala de Or
ATTACH;FMTTYPE=image/png:https://solerelax.it/wp-content/uploads/2018/07/36585146_1711703698949468_5147502580380729344_o.png
END:VEVENT
END:VCALENDAR