BEGIN:VCALENDAR
VERSION:2.0
PRODID:-//Sole Relax - ECPv4.5.13//NONSGML v1.0//EN
CALSCALE:GREGORIAN
METHOD:PUBLISH
X-WR-CALNAME:Sole Relax
X-ORIGINAL-URL:https://solerelax.it
X-WR-CALDESC:Events for Sole Relax
BEGIN:VEVENT
DTSTART;TZID=UTC+0:20180714T160000
DTEND;TZID=UTC+0:20180714T160000
DTSTAMP:20260424T064252
CREATED:20180629T144617Z
LAST-MODIFIED:20180629T144617Z
UID:4390-1531584000-1531584000@solerelax.it
SUMMARY:APEritivo de Or
DESCRIPTION:APEritivo de Or\nL’aperitivo in spiaggia firmato Cala de Or\, ogni Sabato dalle 16:00 con la musica di Skegia Dj.\nCi trovate in via Zamboni\, loc. Spiaggia d’Oro\, Desenzano del Garda (BS). \n
URL:https://solerelax.it/event/aperitivo-de-or-7/
LOCATION:Via Zamboni - Loc. Spiaggia d'Oro\, Desenzano del Garda\, Brescia\, 25015\, Italia
CATEGORIES:Bar Cala de Or
ATTACH;FMTTYPE=image/jpeg:https://solerelax.it/wp-content/uploads/2018/06/aperitivo-de-or-FILEminimizer.jpg
END:VEVENT
END:VCALENDAR