BEGIN:VCALENDAR
VERSION:2.0
PRODID:-//Sole Relax - ECPv4.5.13//NONSGML v1.0//EN
CALSCALE:GREGORIAN
METHOD:PUBLISH
X-WR-CALNAME:Sole Relax
X-ORIGINAL-URL:https://solerelax.it
X-WR-CALDESC:Events for Sole Relax
BEGIN:VEVENT
DTSTART;TZID=UTC+0:20180708T160000
DTEND;TZID=UTC+0:20180708T160000
DTSTAMP:20260424T064215
CREATED:20180629T074111Z
LAST-MODIFIED:20180706T090805Z
UID:4362-1531065600-1531065600@solerelax.it
SUMMARY:Domenica Latina - Cala de Or
DESCRIPTION:\nDomenica Latina\nOgni Domenica\, per tutti gli amanti del genere e non solo\, Dj Teddy ci presenterà le migliori canzoni! Vi aspettiamo a divertirvi tra aperitivi e balli!\nCi trovate in via Zamboni\, Loc. Spiaggia d’Oro a Desenzano del Garda. \n
URL:https://solerelax.it/event/domenica-latina-cala-de-or-2/
LOCATION:Via Zamboni - Loc. Spiaggia d'Oro\, Desenzano del Garda\, Brescia\, 25015\, Italia
CATEGORIES:Bar Cala de Or
ATTACH;FMTTYPE=image/jpeg:https://solerelax.it/wp-content/uploads/2018/06/DOMENICA-LATINA-DEF-FILEminimizer.jpg
END:VEVENT
END:VCALENDAR