BEGIN:VCALENDAR
VERSION:2.0
PRODID:-//Sole Relax - ECPv4.5.13//NONSGML v1.0//EN
CALSCALE:GREGORIAN
METHOD:PUBLISH
X-WR-CALNAME:Sole Relax
X-ORIGINAL-URL:https://solerelax.it
X-WR-CALDESC:Events for Sole Relax
BEGIN:VEVENT
DTSTART;TZID=UTC+0:20180630T160000
DTEND;TZID=UTC+0:20180630T160000
DTSTAMP:20260424T064137
CREATED:20180608T094538Z
LAST-MODIFIED:20180629T123029Z
UID:4345-1530374400-1530374400@solerelax.it
SUMMARY:APEritivo de Or
DESCRIPTION:APEritivo de Or\nL’aperitivo in spiaggia firmato Cala de Or\, ogni Sabato dalle 16:00.\nSolo per questo Sabato con Dj set by Teddy fino alle 24:00!\nPer una full immersion nella musica del momento\, spaziando da un genere all’altro\, fra balli e aperitivi\, vi aspettiamo a Cala de Or!\nCi trovate in via Zamboni\, loc. Spiaggia d’Oro\, Desenzano del Garda (BS). \n
URL:https://solerelax.it/event/aperitivo-de-or-5/
LOCATION:Via Zamboni - Loc. Spiaggia d'Oro\, Desenzano del Garda\, Brescia\, 25015\, Italia
CATEGORIES:Bar Cala de Or
ATTACH;FMTTYPE=image/jpeg:https://solerelax.it/wp-content/uploads/2018/06/aperitivo-de-or-30-giugno-FILEminimizer.jpg
END:VEVENT
BEGIN:VEVENT
DTSTART;TZID=UTC+0:20180630T190000
DTEND;TZID=UTC+0:20180630T190000
DTSTAMP:20260424T064137
CREATED:20180529T151012Z
LAST-MODIFIED:20180529T151012Z
UID:4324-1530385200-1530385200@solerelax.it
SUMMARY:Un Ape da Cani
DESCRIPTION:
URL:https://solerelax.it/event/un-ape-cani/
LOCATION:Via Zamboni - Loc. Spiaggia d'Oro\, Desenzano del Garda\, Brescia\, 25015\, Italia
CATEGORIES:Bar Cala de Or
ATTACH;FMTTYPE=image/jpeg:https://solerelax.it/wp-content/uploads/2018/05/un-ape-da-cani-light-FILEminimizer.jpg
END:VEVENT
END:VCALENDAR