BEGIN:VCALENDAR
VERSION:2.0
PRODID:-//Sole Relax - ECPv4.5.13//NONSGML v1.0//EN
CALSCALE:GREGORIAN
METHOD:PUBLISH
X-WR-CALNAME:Sole Relax
X-ORIGINAL-URL:https://solerelax.it
X-WR-CALDESC:Events for Sole Relax
BEGIN:VEVENT
DTSTART;TZID=UTC+0:20180603T160000
DTEND;TZID=UTC+0:20180603T210000
DTSTAMP:20260424T083240
CREATED:20180528T121136Z
LAST-MODIFIED:20180528T121136Z
UID:4315-1528041600-1528059600@solerelax.it
SUMMARY:Domenica Latina
DESCRIPTION:
URL:https://solerelax.it/event/domenica-latina/
LOCATION:Via Zamboni - Loc. Spiaggia d'Oro\, Desenzano del Garda\, Brescia\, 25015\, Italia
CATEGORIES:Bar Cala de Or
ATTACH;FMTTYPE=image/jpeg:https://solerelax.it/wp-content/uploads/2018/05/domenica-latina-centr-light-def-FILEminimizer.jpg
END:VEVENT
END:VCALENDAR