BEGIN:VCALENDAR
VERSION:2.0
PRODID:-//Sole Relax - ECPv4.5.13//NONSGML v1.0//EN
CALSCALE:GREGORIAN
METHOD:PUBLISH
X-WR-CALNAME:Sole Relax
X-ORIGINAL-URL:https://solerelax.it
X-WR-CALDESC:Events for Sole Relax
BEGIN:VEVENT
DTSTART;TZID=UTC+0:20180513T160000
DTEND;TZID=UTC+0:20180513T210000
DTSTAMP:20260424T101610
CREATED:20180502T154135Z
LAST-MODIFIED:20180502T154135Z
UID:4277-1526227200-1526245200@solerelax.it
SUMMARY:Crazy Sunday - Cala de Or
DESCRIPTION:
URL:https://solerelax.it/event/crazy-sunday-cala-de-or/
LOCATION:Via Zamboni - Loc. Spiaggia d'Oro\, Desenzano del Garda\, Brescia\, 25015\, Italia
CATEGORIES:Bar Cala de Or
ATTACH;FMTTYPE=image/jpeg:https://solerelax.it/wp-content/uploads/2018/05/pubblicità-13-maggio-light.jpg
END:VEVENT
END:VCALENDAR