BEGIN:VCALENDAR
VERSION:2.0
PRODID:-//Sole Relax - ECPv4.5.13//NONSGML v1.0//EN
CALSCALE:GREGORIAN
METHOD:PUBLISH
X-WR-CALNAME:Sole Relax
X-ORIGINAL-URL:https://solerelax.it
X-WR-CALDESC:Events for Sole Relax
BEGIN:VEVENT
DTSTART;TZID=UTC+0:20180316T080000
DTEND;TZID=UTC+0:20180317T190000
DTSTAMP:20260424T130711
CREATED:20180309T160505Z
LAST-MODIFIED:20180309T162145Z
UID:4225-1521187200-1521313200@solerelax.it
SUMMARY:Riapertura!!!
DESCRIPTION:Riapertura – Sole Relax\nDopo il periodo di chiusura invernale\, Sole Relax torna più carica che mai!\nSiamo pronti a farvi vivere un’incredibile estate di divertimento; ma anche in attesa dell’estate non mancheranno certo le sorprese!\nPer prima cosa vi aspettiamo numerosi alla riapertura.\nVenerdì 16 Marzo riapriremo a Castiglione delle Stiviere il Bar al Parco ed a Desenzano del Garda il Milky Bar\, poi Sabato 17 Marzo riapriremo Cala de Or anch’esso a Desenzano.\nVi aspettiamo numerosi a dimostrarci che siete pronti a divertirvi con noi!\nVenite a trovarci anche solo per un caffè\, nei nostri bar sarà un istante di relax per “staccare” dalla quotidianità; ed almeno potremo salutarvi dopo tutto questo tempo! \n
URL:https://solerelax.it/event/riapertura/
CATEGORIES:Bar al Parco,Bar Cala de Or,Bar Milky
ATTACH;FMTTYPE=image/jpeg:https://solerelax.it/wp-content/uploads/2018/03/pubblicità-riapertura-cartelli-FILEminimizer.jpg
END:VEVENT
END:VCALENDAR