BEGIN:VCALENDAR
VERSION:2.0
PRODID:-//Sole Relax - ECPv4.5.13//NONSGML v1.0//EN
CALSCALE:GREGORIAN
METHOD:PUBLISH
X-WR-CALNAME:Sole Relax
X-ORIGINAL-URL:https://solerelax.it
X-WR-CALDESC:Events for Sole Relax
BEGIN:VEVENT
DTSTART;TZID=UTC+0:20170815T160000
DTEND;TZID=UTC+0:20170815T160000
DTSTAMP:20260425T001004
CREATED:20170804T071116Z
LAST-MODIFIED:20170804T071116Z
UID:4077-1502812800-1502812800@solerelax.it
SUMMARY:Beach Party - Cala de Or
DESCRIPTION:Beach Party\nIl 15 Agosto ti aspettiamo a Cala de Or\, perchè il Ferragosto è d’obbligo passarlo in spiaggia! Se non basta una splendida location con un lago rinfrescante e tanto sole vieni per il Beach Party! Tanti drink tutti da provare\, accompagnati dalla musica di Dj Yasel\, tutta da ballare! Vieni a scoprire tutte le sorprese in serbo per il grande evento! Un Ferragosto indimenticabile ti attende a Cala de Or\, in via Zamboni\, Desenzano del Garda\, loc. Spiaggia d’Oro.\nNon scordarti di controllare periodicamente il sito o seguire la pagina Facebook per essere sempre informato sui migliori eventi!\n
URL:https://solerelax.it/event/beach-party/
LOCATION:Via Zamboni - Loc. Spiaggia d'Oro\, Desenzano del Garda\, Brescia\, 25015\, Italia
CATEGORIES:Bar Cala de Or
ATTACH;FMTTYPE=image/jpeg:https://solerelax.it/wp-content/uploads/2017/08/beach-party-beach-BBBBB-orizz.jpg
END:VEVENT
END:VCALENDAR