BEGIN:VCALENDAR
VERSION:2.0
PRODID:-//Sole Relax - ECPv4.5.13//NONSGML v1.0//EN
CALSCALE:GREGORIAN
METHOD:PUBLISH
X-WR-CALNAME:Sole Relax
X-ORIGINAL-URL:https://solerelax.it
X-WR-CALDESC:Events for Sole Relax
BEGIN:VEVENT
DTSTART;TZID=UTC+0:20170812T210000
DTEND;TZID=UTC+0:20170812T210000
DTSTAMP:20260425T001132
CREATED:20170807T102210Z
LAST-MODIFIED:20170807T102210Z
UID:4118-1502571600-1502571600@solerelax.it
SUMMARY:Cinema all'aperto - Cala de Or
DESCRIPTION:Cinema all’aperto\nSabato 12 Agosto presso Cala de Or trovere il Cinema all’aperto. La proiezione in programma è La La Land\, un film del 2016 scritto e diretto da Damien Chazelle.\nIl film racconta la storia d’amore tra un musicista jazz e un’aspirante attrice\, interpretati da Ryan Gosling e Emma Stone\, realizzato come un musical contemporaneo che omaggia i classici film musicali prodotti tra gli anni cinquanta e sessanta. Il titolo del film è sia un riferimento alla città di Los Angeles sia al significato di essere nel “mondo dei sogni” o “fuori dalla realtà”.\nNon scordarti di controllare periodicamente il sito o seguire la pagina Facebook per essere sempre informato sui migliori eventi!\n
URL:https://solerelax.it/event/cinema-allaperto/
LOCATION:Via Zamboni - Loc. Spiaggia d'Oro\, Desenzano del Garda\, Brescia\, 25015\, Italia
CATEGORIES:Bar Cala de Or
ATTACH;FMTTYPE=image/jpeg:https://solerelax.it/wp-content/uploads/2017/08/cinema-allaperto.jpg
END:VEVENT
END:VCALENDAR