BEGIN:VCALENDAR
VERSION:2.0
PRODID:-//Sole Relax - ECPv4.5.13//NONSGML v1.0//EN
CALSCALE:GREGORIAN
METHOD:PUBLISH
X-WR-CALNAME:Sole Relax
X-ORIGINAL-URL:https://solerelax.it
X-WR-CALDESC:Events for Sole Relax
BEGIN:VEVENT
DTSTART;TZID=UTC+0:20170721T210000
DTEND;TZID=UTC+0:20170721T210000
DTSTAMP:20260425T015154
CREATED:20170622T135446Z
LAST-MODIFIED:20170705T150053Z
UID:4000-1500670800-1500670800@solerelax.it
SUMMARY:Noche Latina - Tutti i Venerdì di Luglio - Cala de Or
DESCRIPTION:Noche Latina – Tutti i Venerdì di Luglio a Cala de Or\nCome ogni Venerdì vi aspettiamo per la Noche Latina a Cala de Or! Tutti i Venerdi di Luglio non prendete impegni\, vi aspettiamo a ballare in spiaggia. Dj Teddy è pronto a mixare per voi le canzoni migliori per darvi la musica e il ritmo che desiderate tanto. Nel frattempo l’animazione dello staff Salsa Na Ma\, vi guiderà in balli di gruppo e non solo… Vi aspettiamo sempre più numerosi per divertirci assieme!\nCi troviamo a Desenzano del Garda\, presso la località Spiaggia d’Oro\, in Via Zamboni.\nNon scordarti di controllare periodicamente il sito o seguire la pagina Facebook per essere sempre informato sui migliori eventi!\n
URL:https://solerelax.it/event/noche-latina-venerdi-luglio/
LOCATION:Via Zamboni - Loc. Spiaggia d'Oro\, Desenzano del Garda\, Brescia\, 25015\, Italia
CATEGORIES:Bar Cala de Or
ATTACH;FMTTYPE=image/jpeg:https://solerelax.it/wp-content/uploads/2017/06/serata-latina-luglio-con-cena-e-prenotazione.jpg
END:VEVENT
END:VCALENDAR