BEGIN:VCALENDAR
VERSION:2.0
PRODID:-//Sole Relax - ECPv4.5.13//NONSGML v1.0//EN
CALSCALE:GREGORIAN
METHOD:PUBLISH
X-WR-CALNAME:Sole Relax
X-ORIGINAL-URL:https://solerelax.it
X-WR-CALDESC:Events for Sole Relax
BEGIN:VEVENT
DTSTART;TZID=UTC+0:20251102T140000
DTEND;TZID=UTC+0:20251102T190000
DTSTAMP:20260421T130824
CREATED:20251030T081344Z
LAST-MODIFIED:20251030T081651Z
UID:7631-1762092000-1762110000@solerelax.it
SUMMARY:Novembre Beach Sound
DESCRIPTION:Novembre Beach Sound – Aperitivo in spiaggia con DJ Floso | Cala de Or Desenzano del Garda\nOgni domenica di novembre\, il Cala de Or di Desenzano del Garda (BS) ti invita a vivere un pomeriggio indimenticabile con Beach Sound\, l’evento musicale che porta l’energia dell’estate anche nei mesi più freschi! \nA partire dalle ore 14:00\, la spiaggia di Via Zamboni si trasforma in un luogo di festa\, musica e relax con l’inconfondibile sound di DJ Floso\, che farà vibrare l’atmosfera con i migliori mix. Un’occasione perfetta per chi desidera sorseggiare un cocktail vista lago\, ballare sulla sabbia e godersi il tramonto in compagnia di amici e buona musica. \n🎶 Un’esperienza unica sul Lago di Garda\nL’evento Beach Sound nasce per chi ama le emozioni autentiche e la libertà delle giornate in riva al lago. Il Cala de Or è uno dei locali più suggestivi di Desenzano\, conosciuto per il suo stile informale ma curato\, i suoi aperitivi di qualità e la splendida posizione direttamente sulla spiaggia. Durante novembre\, ogni domenica il locale accoglie residenti e turisti con un appuntamento gratuito e coinvolgente\, pensato per regalare divertimento\, socialità e buona musica. \n🍹 Aperitivi e atmosfera da sogno\nIl bar propone una selezione di cocktail artigianali\, birre fresche\, vini locali e stuzzichini\, ideali per accompagnare il pomeriggio in riva al lago. L’ingresso è libero e non è richiesta prenotazione\, ma si consiglia di arrivare presto per godersi i posti migliori vista tramonto. \n📍 Informazioni utili\n📅 Tutte le domeniche di novembre 🕑 Dalle ore 14:00 📍 Via Zamboni – Desenzano del Garda (BS) 📞 Info: 342 306 4016 🎧 Con DJ Floso 💵 Ingresso libero \n
URL:https://solerelax.it/event/novembre-beach-sound/
LOCATION:Via Zamboni - Loc. Spiaggia d'Oro\, Desenzano del Garda\, Brescia\, 25015\, Italia
CATEGORIES:Bar Cala de Or
ATTACH;FMTTYPE=image/jpeg:https://solerelax.it/wp-content/uploads/2025/10/Novembre-Beach-Sound-con-dj-floso-ogni-domenica-di-novembre-2025.jpg
END:VEVENT
BEGIN:VEVENT
DTSTART;TZID=UTC+0:20251102T150000
DTEND;TZID=UTC+0:20251102T190000
DTSTAMP:20260421T130824
CREATED:20251029T161503Z
LAST-MODIFIED:20251029T161503Z
UID:7624-1762095600-1762110000@solerelax.it
SUMMARY:Karaoke con Vane e Robi al K.DES
DESCRIPTION:🎤 Karaoke al K.des con Vane & Robi – Tutte le domeniche di novembre a Castiglione delle Stiviere\nSe ami la musica\, il divertimento e l’atmosfera conviviale\, K.des Kiosco Desenzani ti aspetta per tre imperdibili appuntamenti dedicati al karaoke nel cuore del Parco Desenzani a Castiglione delle Stiviere (MN). Le domeniche 2\, 9 e 16 novembre\, a partire dalle ore 15:00\, il chiosco si trasforma in un palcoscenico aperto a tutti\, dove cantare i tuoi brani preferiti accompagnato dall’energia contagiosa di Vane & Robi\, duo musicale amatissimo per la loro simpatia e professionalità. \nL’evento “Karaoke al K.des” è pensato per regalarti un pomeriggio di musica e spensieratezza\, perfetto per chi desidera passare del tempo all’aria aperta\, sorseggiando un aperitivo o gustando una merenda in compagnia. Il K.des è il luogo ideale per condividere emozioni\, risate e canzoni in un ambiente accogliente e informale\, immerso nel verde del parco. \nDurante il pomeriggio potrai cimentarti con i più grandi successi italiani e internazionali\, da cantare da solo o in duetto\, mentre il pubblico applaude e si diverte con te. Non serve essere un cantante professionista: basta la voglia di divertirsi e di vivere un’esperienza autentica all’insegna della musica. \n👉 Ingresso gratuito – nessuna prenotazione necessaria. Porta con te amici\, famiglia e colleghi per trascorrere una domenica diversa dal solito. Il team del K.des Kiosco Desenzani\, parte della rete Sole Relax\, ti accoglierà con il sorriso e tante proposte di bevande\, snack e cocktail. \nNon perdere l’occasione di partecipare all’evento musicale più allegro di novembre a Castiglione delle Stiviere. 🎤 Karaoke al K.des – Domeniche 2\, 9 e 16 novembre dalle ore 15:00. 📍 K.des Kiosco Desenzani – Via Zanardelli\, Parco Desenzani\, Castiglione D/S (MN) 🌐 www.solerelax.it 📞 370 316 2175 \n
URL:https://solerelax.it/event/karaoke-vane-robi-al-k-des/
LOCATION:via Zanardelli\, Castiglione delle Stiviere\, Brescia\, 46043\, Italia
CATEGORIES:K.des Kiosco Desenzani
ATTACH;FMTTYPE=image/jpeg:https://solerelax.it/wp-content/uploads/2025/10/Karaoke-al-k.des-novembre-2025-con-Robi-e-Vane-.jpg
END:VEVENT
END:VCALENDAR