BEGIN:VCALENDAR
VERSION:2.0
PRODID:-//Sole Relax - ECPv4.5.13//NONSGML v1.0//EN
CALSCALE:GREGORIAN
METHOD:PUBLISH
X-WR-CALNAME:Sole Relax
X-ORIGINAL-URL:https://solerelax.it
X-WR-CALDESC:Events for Sole Relax
BEGIN:VEVENT
DTSTART;TZID=UTC+0:20250928T160000
DTEND;TZID=UTC+0:20250928T190000
DTSTAMP:20260421T172924
CREATED:20250827T141402Z
LAST-MODIFIED:20250827T141402Z
UID:7509-1759075200-1759086000@solerelax.it
SUMMARY:Scivolo Gonfiabile al Kiosco Desenzani
DESCRIPTION:Scivolo gonfiabile al Parco Desenzani – Domenica 28 settembre 2025\nL’ultimo appuntamento di settembre con lo scivolo gonfiabile gigante al Parco Desenzani di Castiglione delle Stiviere (MN) è fissato per domenica 28 settembre 2025. A partire dalle 16:00\, i bambini avranno ancora una volta la possibilità di vivere un pomeriggio indimenticabile\, tra risate\, corse e scivolate in un ambiente sicuro\, colorato e immerso nella natura. \nIl Kiosco Desenzani chiude così il ciclo di eventi del mese dedicati alle famiglie\, offrendo un’occasione speciale per trascorrere una domenica all’aria aperta\, tra gioco\, relax e momenti golosi. \nUn grande scivolo gonfiabile per concludere settembre\nProtagonista della giornata sarà lo scivolo gonfiabile gigante\, amato da tutti i bambini. Questa attrazione\, semplice e coinvolgente\, permette di muoversi liberamente\, stimolando agilità e fantasia. Grazie alla sua struttura sicura e al design colorato\, lo scivolo riesce a conquistare i piccoli e a regalare ore di divertimento senza sosta. \nL’appuntamento del 28 settembre rappresenta l’occasione perfetta per salutare l’estate e vivere l’ultima domenica del mese in compagnia\, in un contesto sereno e adatto a tutta la famiglia. \nLa merenda firmata Kiosco: Pane e Nutella + Bibita\nPer accompagnare il divertimento non può mancare la proposta gastronomica del Kiosco Desenzani: pane e Nutella con bibita a soli 4\,50 €. Una merenda semplice\, gustosa e amata da grandi e piccoli\, ideale per concedersi una pausa dolce dopo i giochi. \nPerché partecipare all’evento del 28 settembre\n\n\nUn’unica grande attrazione: lo scivolo gonfiabile gigante\, sicuro e divertente. \n\n\nUna cornice naturale: il Parco Desenzani\, luogo ideale per famiglie e bambini. \n\n\nUn pomeriggio di socialità e allegria\, con i più piccoli che giocano insieme. \n\n\nMerenda golosa e conveniente\, pensata per completare l’esperienza. \n\n\nUn evento che chiude in bellezza il mese di settembre\, lasciando ricordi positivi. \n\n\nInformazioni utili\n📍 Parco Desenzani – Via Zanardelli\, Castiglione delle Stiviere (MN) 🕓 Dalle ore 16:00 in poi \nDomenica 28 settembre 2025 non perdere l’ultimo appuntamento con lo scivolo gonfiabile al Parco Desenzani: un’occasione speciale per vivere una giornata di divertimento e relax\, perfetta per concludere il mese con il sorriso di tutta la famiglia. \n
URL:https://solerelax.it/event/scivolo-gonfiabile-al-kiosco-desenzani/
LOCATION:via Zanardelli\, Castiglione delle Stiviere\, 46043\, Italia
CATEGORIES:K.des Kiosco Desenzani
ATTACH;FMTTYPE=image/jpeg:https://solerelax.it/wp-content/uploads/2025/08/NUOVE-DATE-SETTEMBRE-gonfiabili-2025-al-K.DES_.jpg
END:VEVENT
BEGIN:VEVENT
DTSTART;TZID=UTC+0:20250928T160000
DTEND;TZID=UTC+0:20250928T210000
DTSTAMP:20260421T172924
CREATED:20250909T073221Z
LAST-MODIFIED:20250909T073221Z
UID:7526-1759075200-1759093200@solerelax.it
SUMMARY:28 Settembre - Beach Fun Cala de Or
DESCRIPTION:Domenica 28 settembre 2025 si conclude il mese con un appuntamento imperdibile: il Beach Sound al Cala de Or di Desenzano del Garda (BS). A partire dalle ore 16:00\, la spiaggia si animerà con il DJ set esclusivo di Floso\, pronto a regalare un pomeriggio e una serata all’insegna della musica\, del divertimento e del relax in riva al Lago di Garda. \nIl Beach Sound non è un semplice aperitivo\, ma un vero e proprio evento capace di unire buona musica\, drink ricercati e l’atmosfera unica della spiaggia. L’appuntamento del 28 settembre segna uno dei momenti più attesi della stagione: una domenica speciale per salutare l’estate e vivere ancora una volta la magia del tramonto sul lago accompagnati dal sound avvolgente di Floso. \nLa location\, situata in via Zamboni a Desenzano del Garda\, è una cornice perfetta per questo tipo di esperienza: il Cala de Or è conosciuto per la sua vista mozzafiato\, l’accoglienza e la capacità di trasformare ogni evento in un ricordo indimenticabile. Con ingresso libero\, il Beach Sound è un’occasione accessibile a tutti\, che richiama giovani\, coppie\, famiglie e turisti desiderosi di vivere una domenica diversa dal solito. \nIl programma prevede un mix musicale in grado di soddisfare i gusti di tutti: dalle sonorità chill ideali per sorseggiare un cocktail al tramonto\, fino a ritmi più intensi perfetti per ballare e lasciarsi trasportare dall’energia della serata. Grazie alla professionalità di DJ Floso\, la colonna sonora dell’evento sarà coinvolgente e raffinata. \nIl 28 settembre rappresenta quindi l’occasione giusta per chiudere il mese con stile\, circondati da amici e da un’atmosfera vibrante. La formula è quella che ha reso celebre il Beach Sound: musica di qualità\, drink freschi\, socialità e la suggestione del lago al calar del sole. \n📍 Dove: Cala de Or\, via Zamboni – Desenzano del Garda (BS) 🎶 Quando: domenica 28 settembre 2025\, dalle ore 16:00 🎧 DJ Set: Floso 🎟 Ingresso libero \nIl Beach Sound del 28 settembre è l’evento ideale per chiudere settembre nel segno della musica e del divertimento\, tra aperitivi\, spiaggia e la magia del Lago di Garda. \n
URL:https://solerelax.it/event/28-settembre-beach-fun-cala-de-or/
LOCATION:Via Zamboni - Loc. Spiaggia d'Oro\, Desenzano del Garda\, Brescia\, 25015\, Italia
CATEGORIES:Bar Cala de Or
ATTACH;FMTTYPE=image/jpeg:https://solerelax.it/wp-content/uploads/2025/09/beach-sound-settembre-floso-.jpg
END:VEVENT
END:VCALENDAR