BEGIN:VCALENDAR
VERSION:2.0
PRODID:-//Sole Relax - ECPv4.5.13//NONSGML v1.0//EN
CALSCALE:GREGORIAN
METHOD:PUBLISH
X-WR-CALNAME:Sole Relax
X-ORIGINAL-URL:https://solerelax.it
X-WR-CALDESC:Events for Sole Relax
BEGIN:VEVENT
DTSTART;TZID=UTC+0:20250921T160000
DTEND;TZID=UTC+0:20250921T190000
DTSTAMP:20260421T190537
CREATED:20250827T141014Z
LAST-MODIFIED:20250827T141014Z
UID:7503-1758470400-1758481200@solerelax.it
SUMMARY:Scivolo Gonfiabile al K.DES
DESCRIPTION:Scivolo gonfiabile al K.DES – Domenica 21 settembre 2025\nDomenica 21 settembre 2025 torna al Parco Desenzani di Castiglione delle Stiviere (MN) l’appuntamento con lo scivolo gonfiabile gigante\, un’occasione imperdibile per regalare ai bambini un pomeriggio di gioia e spensieratezza. A partire dalle 16:00\, i più piccoli potranno divertirsi senza sosta scivolando\, correndo e giocando in un ambiente sicuro e immerso nella natura. \nL’evento è organizzato dal Kiosco Desenzani\, punto di riferimento per famiglie e visitatori del parco\, che ogni domenica di settembre propone iniziative pensate per unire divertimento\, socialità e gusto. \nLo scivolo gonfiabile: protagonista della giornata\nIl cuore dell’iniziativa è il grande scivolo gonfiabile: un’attrazione semplice ma amatissima dai bambini\, che offre la possibilità di vivere momenti entusiasmanti in compagnia dei propri amici e coetanei. L’attività\, sicura e adatta a diverse fasce d’età\, permette ai più piccoli di muoversi liberamente\, stimolando coordinazione\, equilibrio e fantasia. \nLo scivolo gonfiabile è una garanzia di risate e buon umore\, capace di rendere unica la domenica pomeriggio e di creare ricordi indimenticabili. \nUna merenda per tutti: Pane e Nutella + Bibita\nAccanto al divertimento\, non manca la proposta golosa del Kiosco Desenzani: la classica merenda con pane e Nutella e bibita inclusa a soli 4\,50 €. Una scelta perfetta per ricaricare le energie dopo i giochi\, che unisce gusto e convenienza\, conquistando grandi e piccoli. \nPerché partecipare domenica 21 settembre\n\n\nUn’unica grande attrazione: lo scivolo gonfiabile gigante\, sicuro e colorato. \n\n\nAmbiente naturale e accogliente: il Parco Desenzani è ideale per famiglie e bambini. \n\n\nUn pomeriggio di socialità: i bambini giocano insieme\, i genitori si rilassano. \n\n\nMerenda gustosa ed economica\, pensata per tutti. \n\n\nUn’occasione speciale per vivere un’esperienza diversa\, a fine estate. \n\n\nInformazioni utili\n📍 Parco Desenzani – Via Zanardelli\, Castiglione delle Stiviere (MN) 🕓 Dalle ore 16:00 in poi \nNon perdere l’appuntamento di domenica 21 settembre 2025 con lo scivolo gonfiabile al Parco Desenzani: un pomeriggio di divertimento\, gusto e relax che farà felici i bambini e regalerà un sorriso anche agli adulti. \n
URL:https://solerelax.it/event/scivolo-gonfiabile-al-k-des/
LOCATION:via Zanardelli\, Castiglione delle Stiviere\, 46043\, Italia
CATEGORIES:K.des Kiosco Desenzani
ATTACH;FMTTYPE=image/jpeg:https://solerelax.it/wp-content/uploads/2025/08/NUOVE-DATE-SETTEMBRE-gonfiabili-2025-al-K.DES_.jpg
END:VEVENT
BEGIN:VEVENT
DTSTART;TZID=UTC+0:20250921T160000
DTEND;TZID=UTC+0:20250921T210000
DTSTAMP:20260421T190537
CREATED:20250909T071609Z
LAST-MODIFIED:20250909T071609Z
UID:7524-1758470400-1758488400@solerelax.it
SUMMARY:Domenica 21 Settembre - Beach Sound Cala de Or
DESCRIPTION:Domenica 21 settembre 2025 il Cala de Or di Desenzano del Garda (BS) ti invita a un nuovo appuntamento con Beach Sound\, l’aperitivo in spiaggia più atteso della stagione. A partire dalle ore 16:00\, il ritmo travolgente di DJ Floso accompagnerà il pomeriggio e la serata con un mix di musica house\, chill e dance capace di far ballare e rilassare allo stesso tempo. \nIl Beach Sound è ormai diventato un punto di riferimento per chi desidera vivere la domenica in modo diverso: cocktail freschi\, buon cibo\, spiaggia e la vista spettacolare del Lago di Garda al tramonto. L’evento del 21 settembre sarà un’occasione speciale per continuare a celebrare l’estate anche a fine mese\, con la stessa energia e l’atmosfera unica che caratterizzano ogni appuntamento targato Cala de Or. \nLa location\, situata in via Zamboni a Desenzano del Garda\, è perfetta per chi cerca un’esperienza all’insegna del relax e del divertimento: una cornice naturale mozzafiato dove la musica incontra l’aperitivo e la socialità. Con l’ingresso libero\, l’evento è aperto a tutti: coppie\, gruppi di amici\, turisti e chiunque voglia trascorrere una domenica indimenticabile in riva al lago. \nIl 21 settembre sarà una data da segnare in agenda: il DJ set di Floso\, la qualità dei drink preparati dai barman del Cala de Or e l’atmosfera coinvolgente della spiaggia al tramonto renderanno questa serata unica. Perfetta per scattare foto ricordo\, incontrare nuove persone e vivere la magia del lago al calar del sole\, l’esperienza del Beach Sound va oltre il semplice aperitivo: è un vero e proprio evento da vivere e condividere. \nGrazie alla sua posizione centrale\, il Cala de Or è facilmente raggiungibile sia dal centro di Desenzano che dalle località limitrofe\, attirando ogni domenica un pubblico variegato e cosmopolita. \n📍 Dove: Cala de Or\, via Zamboni – Desenzano del Garda (BS) 🎶 Quando: domenica 21 settembre 2025\, dalle ore 16:00 🎧 DJ Set: Floso 🎟 Ingresso libero \nIl Beach Sound del 21 settembre è l’occasione perfetta per vivere la magia del Lago di Garda con buona musica\, drink e tanto divertimento. \n
URL:https://solerelax.it/event/domenica-21-settembre-beach-sound-cala-de-or/
LOCATION:Via Zamboni - Loc. Spiaggia d'Oro\, Desenzano del Garda\, Brescia\, 25015\, Italia
CATEGORIES:Bar Cala de Or
ATTACH;FMTTYPE=image/jpeg:https://solerelax.it/wp-content/uploads/2025/09/beach-sound-settembre-floso-.jpg
END:VEVENT
END:VCALENDAR