BEGIN:VCALENDAR
VERSION:2.0
PRODID:-//Sole Relax - ECPv4.5.13//NONSGML v1.0//EN
CALSCALE:GREGORIAN
METHOD:PUBLISH
X-WR-CALNAME:Sole Relax
X-ORIGINAL-URL:https://solerelax.it
X-WR-CALDESC:Events for Sole Relax
BEGIN:VEVENT
DTSTART;TZID=UTC+0:20250920T160000
DTEND;TZID=UTC+0:20250920T210000
DTSTAMP:20260421T191541
CREATED:20250909T080212Z
LAST-MODIFIED:20250909T080423Z
UID:7528-1758384000-1758402000@solerelax.it
SUMMARY:September Party - 20 Settembre Cala de Or
DESCRIPTION:September Party con DJ Matteo Bodini – Sabato 20 Settembre a Desenzano del Garda\nIl mese di settembre continua a regalare emozioni uniche sul Lago di Garda con il September Party presso Cala de Or\, una delle location più suggestive di Desenzano del Garda (BS). Dopo il grande successo degli appuntamenti precedenti\, sabato 20 settembre torna protagonista la musica di Matteo Bodini\, DJ di talento capace di trasformare ogni serata in un’esperienza indimenticabile. \nA partire dalle ore 16:00\, la spiaggia di via Zamboni si accende con un’atmosfera vibrante e coinvolgente: aperitivo in riva al lago\, buona musica e tanta voglia di divertirsi. L’ingresso è libero\, perciò non serve prenotare: basta portare con sé amici\, energia e la voglia di vivere un pomeriggio che si trasforma in una festa fino a tarda sera. \nL’evento è pensato per chi desidera trascorrere un sabato diverso\, all’insegna del relax e della musica\, immerso in uno scenario naturale mozzafiato. Cala de Or\, con il suo stile elegante e la posizione privilegiata sul lago\, offre il mix perfetto tra divertimento e atmosfera esclusiva. \nDurante il September Party sarà possibile gustare cocktail freschi\, drink estivi e aperitivi preparati con cura\, accompagnati dal sound di Matteo Bodini che spazierà tra house\, deep e selezioni musicali capaci di far ballare tutti. Una proposta ideale per giovani\, coppie e gruppi di amici che vogliono vivere il lago di Garda in un modo diverso\, con ritmo e stile. \nNon mancheranno sorprese e momenti speciali\, con la possibilità di condividere foto e video sui social per rendere ancora più memorabile l’esperienza. Cala de Or invita tutti a partecipare a questo appuntamento gratuito che celebra la bellezza di settembre e la magia delle serate sul lago. \n📍 Dove: Cala de Or – via Zamboni\, Desenzano del Garda (BS) 📅 Quando: Sabato 20 Settembre ⏰ Orario: dalle 16:00 in poi 🎧 Special Guest DJ: Matteo Bodini 💸 Ingresso libero \nNon perdere l’occasione di chiudere l’estate con il ritmo giusto: il September Party del 20 settembre ti aspetta a Desenzano del Garda per un’esperienza che unisce musica\, natura e divertimento. \n
URL:https://solerelax.it/event/semptember-party-20-settembre-cala-de-or/
LOCATION:Via Zamboni - Loc. Spiaggia d'Oro\, Desenzano del Garda\, Brescia\, 25015\, Italia
CATEGORIES:Bar Cala de Or
ATTACH;FMTTYPE=image/jpeg:https://solerelax.it/wp-content/uploads/2025/09/sabato-20-e-27-settembre-September-Party-con-matteo-bodini-.jpg
END:VEVENT
BEGIN:VEVENT
DTSTART;TZID=UTC+0:20250920T220000
DTEND;TZID=UTC+0:20250920T230000
DTSTAMP:20260421T191541
CREATED:20250822T082543Z
LAST-MODIFIED:20250822T082543Z
UID:7486-1758405600-1758409200@solerelax.it
SUMMARY:Extra Blasco - Sabato 20 Settembre
DESCRIPTION:Sabato 20 settembre alle ore 20:00 il Kiosco Desenzani di Castiglione delle Stiviere (MN) ospita una serata imperdibile dedicata alla musica italiana. Sul palco arriveranno gli ExtraBlasco\, una delle più apprezzate tribute band di Vasco Rossi\, capaci di riproporre con energia e fedeltà i più grandi successi del rocker di Zocca. \nL’evento è pensato per tutti i fan di Vasco e per chi desidera vivere un concerto dal vivo ricco di emozioni\, cantando i brani che hanno fatto la storia della musica italiana. Dalle ballate più intime come Sally e Albachiara\, ai pezzi rock travolgenti come Siamo Solo Noi e Vita Spericolata\, il repertorio degli ExtraBlasco farà rivivere tutta l’intensità delle performance originali. \nIl Kiosco Desenzani è il luogo ideale per questo tipo di serate: immerso nel verde\, offre un’atmosfera accogliente e informale\, perfetta per trascorrere una serata con amici\, gustando drink e buon cibo in compagnia della migliore musica dal vivo. Situato in Via Zanardelli a Castiglione delle Stiviere\, il chiosco è facilmente raggiungibile ed è ormai un punto di riferimento per gli eventi musicali e culturali della zona. \nQuesta tribute night dedicata a Vasco Rossi non è solo un concerto\, ma un’esperienza che unisce pubblico e band in un’unica grande festa. Gli ExtraBlasco sono conosciuti per la loro professionalità\, la somiglianza vocale e la capacità di trasmettere l’energia che da sempre caratterizza i live di Vasco. \nSe sei un fan del Komandante o semplicemente ami la musica dal vivo\, non puoi perdere questo appuntamento: sabato 20 settembre alle ore 20:00 al Kiosco Desenzani. Preparati a cantare a squarciagola\, brindare con gli amici e lasciarti trasportare da un tributo autentico che celebra uno degli artisti più iconici della musica italiana. \n📍 Dove: K.Des Kiosco Desenzani – Via Zanardelli\, Castiglione delle Stiviere (MN) 🕗 Quando: Sabato 20 settembre\, ore 20:00 🎶 Chi: ExtraBlasco – Vasco Rossi Tribute Band \nUn evento unico\, emozionante e coinvolgente che porta la musica di Vasco Rossi a Castiglione delle Stiviere. Non mancare! \n
URL:https://solerelax.it/event/extra-blasco-sabato-20-settembre/
LOCATION:via Zanardelli\, Castiglione delle Stiviere\, Brescia\, 46043\, Italia
CATEGORIES:K.des Kiosco Desenzani
ATTACH;FMTTYPE=image/jpeg:https://solerelax.it/wp-content/uploads/2025/08/Sabato-20-Settembre-al-K.DES-Kiosco-Desenzani-di-Castiglione-delle-Stiviere-MN-EXTRA-BLASCO-tributo-a-vasco-rossi-.jpg
END:VEVENT
END:VCALENDAR