BEGIN:VCALENDAR
VERSION:2.0
PRODID:-//Sole Relax - ECPv4.5.13//NONSGML v1.0//EN
CALSCALE:GREGORIAN
METHOD:PUBLISH
X-WR-CALNAME:Sole Relax
X-ORIGINAL-URL:https://solerelax.it
X-WR-CALDESC:Events for Sole Relax
BEGIN:VEVENT
DTSTART;TZID=UTC+0:20250907T160000
DTEND;TZID=UTC+0:20250907T190000
DTSTAMP:20260421T192150
CREATED:20250827T140019Z
LAST-MODIFIED:20250827T140019Z
UID:7498-1757260800-1757271600@solerelax.it
SUMMARY:Settembre Gonfiabili al K.DES
DESCRIPTION:Descrizione SEO evento: Gonfiabili al Parco Desenzani – Domenica 7 settembre 2025\nIl Parco Desenzani di Castiglione delle Stiviere (MN) si trasforma nuovamente in un’oasi di divertimento e spensieratezza con il ritorno dell’attesissimo appuntamento con i gonfiabili per bambini\, organizzato dal Kiosco Desenzani. Domenica 7 settembre 2025\, a partire dalle ore 16:00\, i più piccoli potranno vivere un pomeriggio indimenticabile tra giochi\, scivoli giganti e attrazioni gonfiabili colorate\, immerse nella natura del parco. \nL’evento è pensato per le famiglie che desiderano trascorrere una giornata all’aria aperta\, offrendo ai bambini un ambiente sicuro e stimolante\, e agli adulti un’occasione per rilassarsi e godersi la convivialità. Il Parco Desenzani\, con i suoi ampi spazi verdi\, è infatti la cornice ideale per un’esperienza che unisce divertimento\, socialità e gusto. \nAttività per bambini e famiglie\nDurante l’intero pomeriggio\, i bambini potranno saltare\, arrampicarsi e correre sui vari gonfiabili disponibili\, sviluppando abilità motorie e sociali mentre si divertono in compagnia di altri coetanei. Le attrazioni sono adatte a diverse fasce d’età\, garantendo sicurezza. \nMerenda speciale: Pane e Nutella + Bibita\nNon mancherà la possibilità di gustare una merenda golosa e conveniente: il Kiosco Desenzani propone infatti il classico e intramontabile pane e Nutella con bibita inclusa a soli 4\,50 €. Un’opzione perfetta per ricaricare le energie dopo i giochi e condividere un momento dolce e conviviale con tutta la famiglia. \nPerché partecipare all’evento del 7 settembre\n\n\nIngresso libero al parco e possibilità di accedere a spazi verdi ideali per passeggiate e relax. \n\n\nDivertimento garantito per i bambini\, con gonfiabili colorati e sicuri. \n\n\nMomenti di socialità per genitori e famiglie\, che possono incontrarsi e trascorrere ore serene all’aperto. \n\n\nMerenda gustosa ed economica\, perfetta per grandi e piccoli. \n\n\nUn’occasione per vivere il parco in modo diverso e rendere unica la domenica di fine estate. \n\n\nDove si svolge\n📍 Parco Desenzani – Via Zanardelli\, Castiglione delle Stiviere (MN) \nNon perdere l’appuntamento con i gonfiabili al Parco Desenzani domenica 7 settembre 2025: un pomeriggio di gioco\, allegria e condivisione che lascerà ai bambini ricordi indimenticabili e ai genitori la gioia di vederli sorridere. \n
URL:https://solerelax.it/event/settembre-gonfiabili-al-k-des/
LOCATION:via Zanardelli\, Castiglione delle Stiviere\, 46043\, Italia
CATEGORIES:Bar Chiosco Desenzani
ATTACH;FMTTYPE=image/jpeg:https://solerelax.it/wp-content/uploads/2025/08/NUOVE-DATE-SETTEMBRE-gonfiabili-2025-al-K.DES_.jpg
END:VEVENT
BEGIN:VEVENT
DTSTART;TZID=UTC+0:20250907T160000
DTEND;TZID=UTC+0:20250907T210000
DTSTAMP:20260421T192150
CREATED:20250905T161257Z
LAST-MODIFIED:20250905T161257Z
UID:7515-1757260800-1757278800@solerelax.it
SUMMARY:Aperitivo in Spiaggia 7 Settembre Cala de Or
DESCRIPTION:
URL:https://solerelax.it/event/aperitivo-spiaggia-7-settembre-cala-de-or/
LOCATION:Via Zamboni - Loc. Spiaggia d'Oro\, Desenzano del Garda\, Brescia\, 25015\, Italia
CATEGORIES:Bar Cala de Or
ATTACH;FMTTYPE=image/jpeg:https://solerelax.it/wp-content/uploads/2025/09/beach-sound-settembre-floso-.jpg
END:VEVENT
END:VCALENDAR