BEGIN:VCALENDAR
VERSION:2.0
PRODID:-//Sole Relax - ECPv4.5.13//NONSGML v1.0//EN
CALSCALE:GREGORIAN
METHOD:PUBLISH
X-WR-CALNAME:Sole Relax
X-ORIGINAL-URL:https://solerelax.it
X-WR-CALDESC:Events for Sole Relax
BEGIN:VEVENT
DTSTART;TZID=UTC+0:20250727T150000
DTEND;TZID=UTC+0:20250727T220000
DTSTAMP:20260421T210308
CREATED:20250722T075025Z
LAST-MODIFIED:20250722T080410Z
UID:7382-1753628400-1753653600@solerelax.it
SUMMARY:Beach Fun 27 Luglio
DESCRIPTION:Beach Fun – Aperitivo in spiaggia con DJ Skegia | Domenica 27 Luglio 2025 a Cala de Or\, Desenzano del Garda\nConcludi il mese di luglio con stile e relax nella splendida cornice del Lago di Garda! Domenica 27 luglio 2025\, torna l’appuntamento più atteso dell’estate: Beach Fun presso Cala de Or\, il beach bar situato nella meravigliosa Spiaggia d’Oro a Desenzano del Garda (BS). \nDalle ore 15:00\, vivi l’energia del tramonto sulle note di Skegia DJ\, protagonista di una selezione musicale scelta direttamente da voi. L’evento è pensato per chi desidera un aperitivo vista lago con un tocco di esclusività\, musica di qualità e una location immersa nella natura. \n🍸 Cocktail freschi\, bollicine\, spritz e drink tropicali ti accompagneranno in un’atmosfera rilassata ma festosa\, con servizio bar e aree lounge disponibili anche su prenotazione. Sorseggia il tuo drink preferito\, goditi il sole e lasciati cullare dal ritmo mentre il lago si tinge dei colori del tramonto. \n🌴 Cala de Or è facilmente accessibile e dispone di tutti i comfort per trascorrere una giornata perfetta in spiaggia: ombrelloni\, lettini\, zone relax e una vista impagabile sul Lago di Garda. È il luogo ideale per gruppi di amici\, coppie e chi cerca un’esperienza estiva alternativa e rigenerante. \n📲 Prenotazioni consigliate: scarica l’app Cala de Or – Desenzano del Garda\, disponibile su Google Play e App Store\, per riservare in pochi secondi il tuo ombrellone\, lettino o tavolo per l’aperitivo. \n📞 Info: 342 306 4016 🌐 Maggiori dettagli su www.solerelax.it \n
URL:https://solerelax.it/event/beach-fun-27-luglio/
LOCATION:Via Zamboni - Loc. Spiaggia d'Oro\, Desenzano del Garda\, Brescia\, 25015\, Italia
CATEGORIES:Bar Cala de Or
ATTACH;FMTTYPE=image/jpeg:https://solerelax.it/wp-content/uploads/2025/06/Beach-Fun-ogni-domenica-di-luglio-a-Cala-de-Or-con-Dj-Skegia-.jpg
END:VEVENT
BEGIN:VEVENT
DTSTART;TZID=UTC+0:20250727T180000
DTEND;TZID=UTC+0:20250727T210000
DTSTAMP:20260421T210308
CREATED:20250722T084412Z
LAST-MODIFIED:20250722T084412Z
UID:7384-1753639200-1753650000@solerelax.it
SUMMARY:Live Sunday 27 Luglio con Charlie Tomaselli al K.DES
DESCRIPTION:Domenica 27 luglio – Live Sunday con Charlie Tomaselli al Kiosco Desenzani: musica dal vivo anni ’70/’80/’90 e aperitivo all’aperto! \nIl format musicale dell’estate a Castiglione delle Stiviere torna con un nuovo appuntamento imperdibile: Live Sunday ti aspetta domenica 27 luglio 2025 al Kiosco Desenzani per una serata di grande musica e puro relax\, nel cuore del parco cittadino. \nDalle ore 18:00\, lasciati conquistare dall’atmosfera unica del Live Sunday\, il format che unisce aperitivi\, socialità e musica dal vivo. Sul palco\, questa settimana\, ci sarà Charlie Tomaselli\, artista di grande esperienza che ti porterà in un viaggio musicale attraverso i decenni più iconici: dagli anni Settanta\, passando per gli Ottanta fino ai grandi successi degli anni Novanta. Un repertorio coinvolgente e ricco di emozioni\, da ascoltare sorseggiando un drink o ballando sotto il cielo estivo. \nIl Kiosco Desenzani è il luogo perfetto per chi cerca un’alternativa fresca\, informale e autentica per le proprie domeniche estive. Immerso nel verde\, offre un’ampia area relax\, tavoli all’aperto e un ricco menù di cocktail\, birre artigianali\, vini selezionati e snack sfiziosi per tutti i gusti. L’ingresso è gratuito e non serve prenotazione\, ma il consiglio è di arrivare in anticipo per assicurarsi il posto migliore! \n📍 Location: Kiosco Desenzani – Via Zanardelli\, Castiglione delle Stiviere (MN) 📅 Data: Domenica 27 luglio 2025 🕕 Orario: Dalle 18:00 – Aperitivo e live music 🎸 Artista live: Charlie Tomaselli 🎶 Genere musicale: Musica anni ’70\, ’80\, ’90 📞 Info line: 370 3162175 🌐 Sito ufficiale: www.solerelax.it \nLive Sunday è il tuo appuntamento fisso della domenica: un mix perfetto di musica\, natura e convivialità. Seguici anche sui social per scoprire tutti i prossimi eventi in programma al Kiosco Desenzani e non perdere le serate più belle dell’estate 2025! \n
URL:https://solerelax.it/event/live-sunday-27-luglio-charlie-tomaselli-al-k-des/
LOCATION:via Zanardelli\, Castiglione delle Stiviere\, Brescia\, 46043\, Italia
CATEGORIES:K.des Kiosco Desenzani
ATTACH;FMTTYPE=image/jpeg:https://solerelax.it/wp-content/uploads/2025/07/live-sunday-27-luglio-charlie-tomaselli-.jpg
END:VEVENT
END:VCALENDAR