BEGIN:VCALENDAR
VERSION:2.0
PRODID:-//Sole Relax - ECPv4.5.13//NONSGML v1.0//EN
CALSCALE:GREGORIAN
METHOD:PUBLISH
X-WR-CALNAME:Sole Relax
X-ORIGINAL-URL:https://solerelax.it
X-WR-CALDESC:Events for Sole Relax
BEGIN:VEVENT
DTSTART;TZID=UTC+0:20250726T150000
DTEND;TZID=UTC+0:20250726T220000
DTSTAMP:20260421T223112
CREATED:20250707T142236Z
LAST-MODIFIED:20250718T141416Z
UID:7358-1753542000-1753567200@solerelax.it
SUMMARY:Cala Music Vibes 26 Luglio
DESCRIPTION:CALA Music Vibes – Sabato 26 Luglio 2025: Gran Finale di Luglio… e si Continua ad Agosto!\nSabato 26 luglio 2025 segna il gran finale del mese per la rassegna CALA Music Vibes presso il suggestivo Cala de Or\, nella splendida Spiaggia d’Oro di Desenzano del Garda (BS). L’appuntamento è\, come sempre\, dalle ore 15:00\, con musica dal vivo\, drink rinfrescanti e il Lago di Garda sullo sfondo. \nI protagonisti musicali dell’evento saranno ancora una volta i coinvolgenti DJ Nicole Fontana e DJ Fabio Morati\, pronti a far ballare la spiaggia con una incredibile selezione di brani. Atmosfera festosa\, pubblico caloroso e tramonto mozzafiato: il mix perfetto per un sabato memorabile. \n📅 Dettagli Evento:\n\n\nData: Sabato 26 Luglio 2025 \n\n\nOrario: Dalle ore 15:00 fino a sera \n\n\nLocation: Cala de Or – Spiaggia d’Oro\, Via Zamboni\, Desenzano del Garda (BS) \n\n\nLine-up: DJ Nicole Fontana & DJ Fabio Morati \n\n\nOrganizzazione: In collaborazione con VG Events \n\n\nPrenotazioni ombrelloni: Tramite l’app ufficiale Cala de Or – Desenzano del Garda (disponibile su Google Play e App Store) \n\n\nContatto: 📞 342 306 4016 \n\n\n🎉 A grande richiesta… SI CONTINUA AD AGOSTO!\nVisto il grande successo di pubblico e partecipazione\, CALA Music Vibes proseguirà anche per tutti i sabati di agosto! La formula vincente non cambia: musica\, aperitivi\, animazione e divertimento in spiaggia ti accompagneranno per tutto il resto dell’estate. Resta aggiornato tramite l’app o i social ufficiali per scoprire le date e le sorprese in arrivo. \n\n✨ Non perdere il gran finale di luglio e preparati a vivere un agosto carico di energia e ritmo! Il 26 luglio ti aspetta un pomeriggio unico da condividere con amici\, cocktail e musica. Usa l’hashtag #CalaMusicVibes e diventa parte della community più vibrante del Lago di Garda. \n
URL:https://solerelax.it/event/cala-music-vibes-26-luglio/
LOCATION:Via Zamboni - Loc. Spiaggia d'Oro\, Desenzano del Garda\, Brescia\, 25015\, Italia
CATEGORIES:Bar Cala de Or
ATTACH;FMTTYPE=image/jpeg:https://solerelax.it/wp-content/uploads/2025/06/cala-music-vibes-ogni-sabato-di-luglio-con-dj-nicole-e-fabio-a-Cala-de-Or-presso-la-Spiaggia-dOro-di-Desenzano-del-Garda.jpg
END:VEVENT
BEGIN:VEVENT
DTSTART;TZID=UTC+0:20250726T203000
DTEND;TZID=UTC+0:20250726T233000
DTSTAMP:20260421T223112
CREATED:20250725T151529Z
LAST-MODIFIED:20250725T151529Z
UID:7408-1753561800-1753572600@solerelax.it
SUMMARY:Sabato in Musica 26 Luglio con Dj Floso
DESCRIPTION:🎶 Sabato 26 Luglio: Serata “Sabato in Musica” con DJ Floso al Kiosco Desenzani\nPreparati a vivere un’esperienza indimenticabile sotto le stelle con “Sabato in Musica”\, l’evento estivo più coinvolgente firmato K.DES Kiosco Desenzani! Ti aspettiamo sabato 26 luglio a partire dalle ore 20:30 presso il suggestivo Parco Desenzani di Castiglione delle Stiviere (MN) per una serata all’insegna del divertimento\, della buona musica e dell’atmosfera magica del nostro chiosco immerso nel verde. \n🎧 Special Guest DJ Floso sarà alla consolle per farci ballare con un mix esplosivo di musica dance anni ‘70\, ‘80\, ‘90\, 2000 e le sonorità vibranti del new afro. Un viaggio musicale tra i più grandi successi che hanno fatto la storia della disco\, arricchito da sonorità contemporanee perfette per chi ama danzare con stile e spensieratezza. \n✨ L’atmosfera sarà resa ancora più speciale dalle luci soffuse\, le decorazioni estive e l’ambiente accogliente del nostro chiosco\, diventato ormai punto di riferimento per chi cerca eventi di qualità e serate rilassanti ma frizzanti a Castiglione delle Stiviere e dintorni. \n🍹 Durante la serata\, il nostro bar sarà operativo con un’ampia selezione di cocktail\, birre\, soft drink e stuzzichini\, perfetti da gustare in compagnia. L’ingresso è libero e non è richiesta prenotazione\, ma ti consigliamo di arrivare presto per trovare posto e vivere l’evento al massimo! \n📍 Dove: Via Zanardelli\, Parco Desenzani – Castiglione delle Stiviere (MN) 🌐 Info e contatti: www.solerelax.it – ☎️ 370 316 2175 📲 Seguici sui social per rimanere aggiornato su tutti gli eventi estivi di Sole Relax e Kiosco Desenzani. \n
URL:https://solerelax.it/event/sabato-musica-26-luglio-dj-floso/
LOCATION:via Zanardelli\, Castiglione delle Stiviere\, Brescia\, 46043\, Italia
CATEGORIES:K.des Kiosco Desenzani
END:VEVENT
END:VCALENDAR