BEGIN:VCALENDAR
VERSION:2.0
PRODID:-//Sole Relax - ECPv4.5.13//NONSGML v1.0//EN
CALSCALE:GREGORIAN
METHOD:PUBLISH
X-WR-CALNAME:Sole Relax
X-ORIGINAL-URL:https://solerelax.it
X-WR-CALDESC:Events for Sole Relax
BEGIN:VEVENT
DTSTART;TZID=UTC+0:20250712T150000
DTEND;TZID=UTC+0:20250712T220000
DTSTAMP:20260421T223102
CREATED:20250707T135626Z
LAST-MODIFIED:20250707T140659Z
UID:7354-1752332400-1752357600@solerelax.it
SUMMARY:Cala Music Vibes 12 Luglio - Cala de Or
DESCRIPTION:CALA Music Vibes – Sabato 12 Luglio 2025: Aperitivo in spiaggia con DJ Set sul Lago di Garda\nSabato 12 luglio 2025\, non perdere uno degli eventi più coinvolgenti dell’estate sul Lago di Garda: CALA Music Vibes\, l’aperitivo in spiaggia firmato Cala de Or. A partire dalle 15:00\, la Spiaggia d’Oro di Desenzano del Garda si trasformerà in una vera e propria arena musicale open air\, tra cocktail e buona musica per un pomeriggio tutto da ballare. \nL’evento\, parte della rassegna che si tiene ogni sabato di luglio\, vede protagonisti due nomi noti della scena musicale locale: DJ Nicole Fontana e DJ Fabio Morati\, pronti a farvi vibrare con un mix esplosivo. A fare da cornice: l’atmosfera suggestiva della spiaggia affacciata sul lago\, i colori del tramonto e un pubblico festoso. \nDettagli dell’evento:\n\n\nData: Sabato 12 Luglio 2025 \n\n\nOrario: Dalle ore 15:00 \n\n\nLuogo: Cala de Or – Spiaggia d’Oro\, Via Zamboni\, Desenzano del Garda (BS) \n\n\nDJ Set: Nicole Fontana & Fabio Morati \n\n\nOrganizzazione: In collaborazione con ViviGarda Events \n\n\nContatto Info e Prenotazioni Ombrelloni: 📞 342 306 4016 \n\n\nScarica l’app “Cala de Or – Desenzano del Garda” da Google Play o App Store per prenotare il tuo ombrellone e assicurarti il tuo posto fronte palco. L’ingresso è libero\, l’atmosfera è quella giusta per vivere l’estate al massimo. \nPerché partecipare?\nCALA Music Vibes è molto più di un semplice DJ set: è un’esperienza sensoriale tra sole\, musica e divertimento. È il posto ideale per chi cerca un aperitivo originale in spiaggia\, tra amici\, cocktail freschi e sonorità coinvolgenti. Che tu voglia ballare sulla sabbia\, rilassarti in riva al lago o goderti un drink con vista\, sabato 12 luglio è la data da segnare in agenda. \n
URL:https://solerelax.it/event/cala-music-vibes-12-luglio/
LOCATION:Via Zamboni - Loc. Spiaggia d'Oro\, Desenzano del Garda\, Brescia\, 25015\, Italia
CATEGORIES:Bar Cala de Or
ATTACH;FMTTYPE=image/jpeg:https://solerelax.it/wp-content/uploads/2025/06/cala-music-vibes-ogni-sabato-di-luglio-con-dj-nicole-e-fabio-a-Cala-de-Or-presso-la-Spiaggia-dOro-di-Desenzano-del-Garda.jpg
END:VEVENT
BEGIN:VEVENT
DTSTART;TZID=UTC+0:20250712T193000
DTEND;TZID=UTC+0:20250712T233000
DTSTAMP:20260421T223102
CREATED:20250707T131009Z
LAST-MODIFIED:20250707T131009Z
UID:7347-1752348600-1752363000@solerelax.it
SUMMARY:Sabato in musica - Luglio al K.DES
DESCRIPTION:Sabato in Musica al Kiosco Desenzani – Estate 2025 a ritmo di DJ Floso\nA partire dal 12 luglio 2025\, il Kiosco Desenzani dà il via a una nuova stagione di eventi estivi con il format “Sabato in Musica”\, un appuntamento settimanale da non perdere dedicato a chi ama mangiare bene\, ballare e divertirsi all’aria aperta nel cuore del Parco Desenzani di Castiglione delle Stiviere (MN). \nOgni sabato sera\, il parco si trasforma in una cornice suggestiva e accogliente\, perfetta per una serata tra amici o in famiglia. Dalle 19:30\, si potrà gustare una cena al parco con un menu sfizioso e accessibile: 6 bocconcini di porchetta accompagnati da patatine fritte e un bicchiere di vino o birra\, il tutto a soli 12\,00 €. Un’occasione ideale per cenare all’aperto in un’atmosfera rilassata e conviviale. \nA seguire\, dalle 21:00\, si accendono le luci della pista con il DJ set by Floso\, pronto a farvi ballare sulle note dei grandi successi dance dagli anni ’70 ai 2000. L’ingresso è libero e aperto a tutti\, per vivere insieme un’esperienza musicale coinvolgente e piena di energia. \n📌 Prenotazione cena obbligatoria entro il mercoledì precedente al numero 370 316 2175. \n📍 Dove: K.DES – Kiosco Desenzani Via Zanardelli\, Parco Desenzani Castiglione delle Stiviere (MN) 🌐 www.solerelax.it \n
URL:https://solerelax.it/event/sabato-musica-luglio-al-k-des/
LOCATION:via Zanardelli\, Castiglione delle Stiviere\, Brescia\, 46043\, Italia
CATEGORIES:K.des Kiosco Desenzani
ATTACH;FMTTYPE=image/jpeg:https://solerelax.it/wp-content/uploads/2025/07/sabato-in-musica-ogni-sabato-di-luglio-al-K.DES-con-dj-floso.jpg
END:VEVENT
END:VCALENDAR