BEGIN:VCALENDAR
VERSION:2.0
PRODID:-//Sole Relax - ECPv4.5.13//NONSGML v1.0//EN
CALSCALE:GREGORIAN
METHOD:PUBLISH
X-WR-CALNAME:Sole Relax
X-ORIGINAL-URL:https://solerelax.it
X-WR-CALDESC:Events for Sole Relax
BEGIN:VEVENT
DTSTART;TZID=UTC+0:20250629T153000
DTEND;TZID=UTC+0:20250629T200000
DTSTAMP:20260422T001159
CREATED:20250619T144407Z
LAST-MODIFIED:20250619T144407Z
UID:7280-1751211000-1751227200@solerelax.it
SUMMARY:Gonfiabili al K.DES 29 Giugno
DESCRIPTION:Gonfiabili al Parco Desenzani – Domenica 29 Giugno 2025 – Evento per Bambini a Castiglione delle Stiviere\nDomenica 29 giugno 2025\, il Parco Desenzani di Castiglione delle Stiviere (MN) si trasforma in un’oasi di divertimento per bambini e famiglie! A partire dalle ore 15:30\, torna l’attesissimo evento “Gonfiabili al Parco” organizzato dal team del Kiosco Desenzani\, per un pomeriggio all’aperto davvero indimenticabile. \nL’iniziativa è pensata per coinvolgere bambini di tutte le età in un ambiente sicuro\, naturale e rilassante. I protagonisti saranno i gonfiabili giganti\, colorati e spettacolari\, perfetti per correre\, saltare e scivolare in totale libertà. L’area sarà sorvegliata da personale per garantire la sicurezza dei più piccoli e la tranquillità dei genitori. \nMa non è tutto: per rendere ancora più gustosa la giornata\, sarà disponibile una merenda speciale a base di pane e Nutella + bibita al prezzo promozionale di € 4\,50. Una pausa dolce e rinfrescante tra un salto e l’altro! \nIl Parco Desenzani\, immerso nel verde e comodamente raggiungibile dal centro di Castiglione delle Stiviere e dintorni\, offre un contesto ideale per trascorrere del tempo di qualità in famiglia. Se stai cercando un’idea originale per la tua domenica\, questo è l’evento che fa per te. \n📍 Indirizzo: Parco Desenzani\, Via Zanardelli – Castiglione delle Stiviere (MN) 🕒 Orario di inizio: 15:30 🎉 Ingresso libero – attività a misura di bambino 📞 Info: 370 316 2175 🌐 www.solerelax.it \n
URL:https://solerelax.it/event/gonfiabili-al-k-des-29-giugno/
LOCATION:via Zanardelli\, Castiglione delle Stiviere\, 46043\, Italia
CATEGORIES:K.des Kiosco Desenzani
ATTACH;FMTTYPE=image/jpeg:https://solerelax.it/wp-content/uploads/2025/06/22-Giugno-Gonfiabili-al-K.DES-29-Giugno-.jpg
END:VEVENT
BEGIN:VEVENT
DTSTART;TZID=UTC+0:20250629T153000
DTEND;TZID=UTC+0:20250629T230000
DTSTAMP:20260422T001159
CREATED:20250624T152818Z
LAST-MODIFIED:20250624T152836Z
UID:7306-1751211000-1751238000@solerelax.it
SUMMARY:29 Giugno Dj Benda
DESCRIPTION:🌞 APERITIVO IN SPIAGGIA CON DJ BENDA – DOMENICA 29 GIUGNO A CALA DE OR (DESENZANO DEL GARDA) 🎶🍹 \nL’estate è esplosa e l’appuntamento imperdibile è per domenica 29 giugno dalle ore 15:30 a Cala de Or\, sullo splendido litorale della Spiaggia d’Oro di Desenzano del Garda (BS). Si conclude in bellezza il ciclo di eventi firmati “Aperitivo in Spiaggia con DJ Benda”\, un format che ha acceso tutte le domeniche di giugno con musica\, cocktail freschi e tramonti mozzafiato. \nLa location\, immersa nella natura e affacciata direttamente sul Lago di Garda\, offre un’atmosfera unica: piedi in acqua\, drink alla mano\, il sound inconfondibile del nostro resident DJ Benda e il sole che cala all’orizzonte. Un’esperienza sensoriale che unisce il relax alla voglia di divertirsi\, perfetta per chi cerca un aperitivo alternativo\, giovane e coinvolgente. \n📍 DOVE: Cala de Or – Via Zamboni\, Loc. Spiaggia d’Oro – Desenzano del Garda (BS) 📆 QUANDO: Domenica 29 giugno 2025\, dalle ore 15:30 🎧 DJ SET: DJ Benda live 📞 INFO & PRENOTAZIONI OMBRELLONI: 342 306 4016 🌐 www.solerelax.it \n👉 Non perdere quest’ultima domenica di giugno: vieni a brindare con noi tra palme\, musica e sorrisi! \n🔜 E non finisce qui! Luglio sarà ricco di nuovi eventi firmati Sole Relax e Cala de Or: serate con musica\, dj set sotto le stelle\, beach party e appuntamenti dedicati a buon cibo\, benessere e intrattenimento per tutte le età. \nPer scoprire in anteprima cosa bolle in pentola\, seguici sui social e resta aggiornato sul nostro sito ufficiale. L’estate è appena iniziata e Cala de Or è il tuo rifugio perfetto sul lago\, tra natura\, sapori e buona compagnia. \n
URL:https://solerelax.it/event/29-giugno-dj-benda/
LOCATION:Via Zamboni - Loc. Spiaggia d'Oro\, Desenzano del Garda\, Brescia\, 25015\, Italia
CATEGORIES:Bar Cala de Or
ATTACH;FMTTYPE=image/jpeg:https://solerelax.it/wp-content/uploads/2025/05/Ogni-Domenica-di-Giugno-dj-Benda.jpg
END:VEVENT
END:VCALENDAR