BEGIN:VCALENDAR
VERSION:2.0
PRODID:-//Sole Relax - ECPv4.5.13//NONSGML v1.0//EN
CALSCALE:GREGORIAN
METHOD:PUBLISH
X-WR-CALNAME:Sole Relax
X-ORIGINAL-URL:https://solerelax.it
X-WR-CALDESC:Events for Sole Relax
BEGIN:VEVENT
DTSTART;TZID=UTC+0:20250622T153000
DTEND;TZID=UTC+0:20250622T223000
DTSTAMP:20260422T015645
CREATED:20250612T124729Z
LAST-MODIFIED:20250612T124729Z
UID:7265-1750606200-1750631400@solerelax.it
SUMMARY:22 Giugno Aperitivo in Spiaggia con Dj Benda
DESCRIPTION:Domenica 22 Giugno – Aperitivo in Spiaggia con DJ Benda al Cala de Or (Desenzano del Garda)\nSe stai cercando un modo originale e rilassante per trascorrere la domenica pomeriggio sul Lago di Garda\, l’appuntamento da non perdere è domenica 22 giugno 2025 con “Aperitivo in Spiaggia con DJ Benda” presso Cala de Or\, nella suggestiva cornice della Spiaggia d’Oro di Desenzano del Garda (BS). \nA partire dalle 15:30\, preparati a vivere un’atmosfera unica fatta di musica dal vivo\, drink freschi e tramonti mozzafiato. DJ Benda sarà alla consolle con il suo mix di musica e sonorità estive che trasformeranno il pomeriggio in una vera e propria esperienza sensoriale. \nCosa ti aspetta il 22 giugno:\n\n\n DJ set con DJ Benda direttamente sulla spiaggia \n\n\n Cocktail artigianali e aperitivi selezionati preparati dai nostri barman \n\n\n Vista lago mozzafiato sulla sponda bresciana del Lago di Garda \n\n\n‍♀️ Un ambiente rilassato\, accessibile a tutti: famiglie\, coppie\, amici \n\n\nL’evento si svolge in una delle location più belle del Garda: il Cala de Or\, chiosco bar immerso nel verde\, a pochi passi dalla riva. Il locale è perfetto per chi ama la natura\, il buon bere e la compagnia. L’ingresso è gratuito e non è necessaria prenotazione. \n Dove: Cala de Or – Via Zamboni\, Loc. Spiaggia d’Oro\, Desenzano del Garda (BS)  Info e contatti: 342 306 4016  Scopri di più: www.solerelax.it \n\nPerfetto per chi cerca:\n\n\nAperitivi al tramonto sul Lago di Garda \n\n\nEventi con DJ a Desenzano \n\n\nSerate in spiaggia a giugno in provincia di Brescia \n\n\nCose da fare la domenica pomeriggio sul lago \n\n\n\nUnisciti a noi domenica 22 giugno e lasciati conquistare dall’atmosfera estiva del Cala de Or. È il momento di staccare la spina\, brindare con gli amici e goderti un aperitivo in spiaggia che sa di vacanza… anche solo per un pomeriggio! \n
URL:https://solerelax.it/event/22-giugno-aperitivo-spiaggia-dj-benda/
LOCATION:Via Zamboni - Loc. Spiaggia d'Oro\, Desenzano del Garda\, Brescia\, 25015\, Italia
CATEGORIES:Bar Cala de Or
ATTACH;FMTTYPE=image/jpeg:https://solerelax.it/wp-content/uploads/2025/05/Ogni-Domenica-di-Giugno-dj-Benda.jpg
END:VEVENT
BEGIN:VEVENT
DTSTART;TZID=UTC+0:20250622T153000
DTEND;TZID=UTC+0:20250622T200000
DTSTAMP:20260422T015645
CREATED:20250619T143329Z
LAST-MODIFIED:20250619T143329Z
UID:7277-1750606200-1750622400@solerelax.it
SUMMARY:22 Giugno Gonfiabili al K.DES
DESCRIPTION:Gonfiabili al Parco Desenzani – Eventi per Bambini a Castiglione delle Stiviere – Giugno 2025\nIl divertimento torna al Parco Desenzani con due imperdibili giornate dedicate ai più piccoli! Domenica 22 giugno e 29 giugno 2025\, dalle ore 15:30\, vieni a vivere un pomeriggio all’insegna del gioco\, della socialità e del relax in uno degli spazi verdi più amati di Castiglione delle Stiviere (Mantova). \nL’evento “Gonfiabili al Parco” è organizzato dal Kiosco Desenzani\, punto di riferimento per famiglie e bambini in cerca di svago e natura. I protagonisti saranno i gonfiabili giganti\, perfetti per saltare\, scivolare e divertirsi in totale sicurezza. L’accesso all’area giochi sarà disponibile per tutti i bambini accompagnati\, con personale presente per garantire l’ordine e la tranquillità dell’esperienza. \nMa non finisce qui! Durante il pomeriggio sarà possibile gustare una merenda golosa: pane e Nutella + bibita a soli € 4\,50. Una proposta pensata per coccolare i più piccoli… e perché no\, anche i genitori! \nL’evento si svolge all’aperto nel verde del Parco Desenzani\, facilmente raggiungibile in auto e dotato di ampi spazi per sedersi\, rilassarsi e godersi il pomeriggio in famiglia. Ideale per chi cerca cose da fare con i bambini a Castiglione delle Stiviere o vuole scoprire eventi per famiglie in provincia di Mantova. \n📍 Indirizzo: Parco Desenzani\, Via Zanardelli\, Castiglione delle Stiviere (MN) 📞 Info: 370 316 2175 🌐 Sito web: www.solerelax.it \n\nNon perdere le nuove date! Ti aspettiamo al Kiosco Desenzani per un giugno 2025 ricco di allegria e sorrisi! \n
URL:https://solerelax.it/event/22-giugno-gonfiabili-al-k-des/
LOCATION:via Zanardelli\, Castiglione delle Stiviere\, Brescia\, 46043\, Italia
CATEGORIES:K.des Kiosco Desenzani
ATTACH;FMTTYPE=image/jpeg:https://solerelax.it/wp-content/uploads/2025/06/22-Giugno-Gonfiabili-al-K.DES-29-Giugno-.jpg
END:VEVENT
END:VCALENDAR