BEGIN:VCALENDAR
VERSION:2.0
PRODID:-//Sole Relax - ECPv4.5.13//NONSGML v1.0//EN
CALSCALE:GREGORIAN
METHOD:PUBLISH
X-WR-CALNAME:Sole Relax
X-ORIGINAL-URL:https://solerelax.it
X-WR-CALDESC:Events for Sole Relax
BEGIN:VEVENT
DTSTART;TZID=UTC+0:20250614T193000
DTEND;TZID=UTC+0:20250614T193000
DTSTAMP:20260422T001306
CREATED:20250609T134221Z
LAST-MODIFIED:20250609T134221Z
UID:7249-1749929400-1749929400@solerelax.it
SUMMARY:Buffet in Musica 14 Giugno 2025
DESCRIPTION:Sabato 14 Giugno 2025 – Buffet in Musica con DJ Floso al Kiosco Desenzani\nPreparati a vivere una serata speciale a Castiglione delle Stiviere! Sabato 14 giugno 2025\, il Kiosco Desenzani ti invita all’appuntamento più atteso dell’inizio estate: Buffet in Musica\, un evento unico che unisce ottimo cibo\, atmosfera rilassata e tanta musica per ballare sotto le stelle. \nA partire dalle 19:30\, potrai gustare un ricco buffet accompagnato da 1 drink alcolico incluso e analcolici illimitati al prezzo simbolico di € 15\,00. Il buffet è pensato per soddisfare tutti i gusti\, ed è perfetto per chi vuole cenare in compagnia immerso nel verde del Parco Desenzani\, in un ambiente informale e accogliente. \nLa serata continua con il ritmo giusto: dalle 21:00 il Kiosco si trasforma in una pista da ballo con il DJ set firmato DJ Floso\, che farà scatenare il pubblico con le migliori hit dance dagli anni ’70\, ’80\, ’90 e 2000. Un viaggio musicale coinvolgente\, pensato per far divertire ogni generazione. L’ingresso al DJ set è gratuito\, aperto a tutti coloro che vogliono vivere una serata diversa dal solito. \n📍 L’evento si svolge presso il Kiosco Desenzani\, in Via Zanardelli a Castiglione delle Stiviere (MN)\, un’oasi verde perfetta per eventi estivi\, feste e momenti di aggregazione. \n📞 Prenota ora il tuo posto per il buffet chiamando il 370 316 2175. I posti sono limitati e l’affluenza sarà alta: assicurati un tavolo per te e i tuoi amici! \n🌐 Maggiori informazioni su www.solerelax.it \n
URL:https://solerelax.it/event/buffet-musica-14-giugno-2025/
LOCATION:via Zanardelli\, Castiglione delle Stiviere\, 46043\, Italia
CATEGORIES:K.des Kiosco Desenzani
ATTACH;FMTTYPE=image/jpeg:https://solerelax.it/wp-content/uploads/2025/05/buffet-in-musica-giugno-2025-Sabato-7-e-Sabato-14-con-dj-floso.jpg
END:VEVENT
BEGIN:VEVENT
DTSTART;TZID=UTC+0:20250614T210000
DTEND;TZID=UTC+0:20250614T233000
DTSTAMP:20260422T001306
CREATED:20250609T081929Z
LAST-MODIFIED:20250609T081929Z
UID:7244-1749934800-1749943800@solerelax.it
SUMMARY:Party 2000 - Cala de Or
DESCRIPTION:🎉 Party 2000 con Apericena in Terrazza vista lago – Sabato 14 Giugno 2025 al Cala de Or (Desenzano del Garda)\nVivi una serata indimenticabile in riva al lago con l’esclusivo Party 2000 al Cala de Or\, nel cuore di Desenzano del Garda\, sabato 14 giugno 2025. Un evento imperdibile tra gusto\, musica e panorami mozzafiato! 🌅 \n🍴 Apericena Italiana a Buffet Vista Lago\nDalle 19:00\, goditi un’apericena italiana a buffet sulla suggestiva terrazza con vista lago. Una vera esperienza gastronomica pensata per soddisfare ogni palato\, in un’atmosfera elegante e rilassata. Il menù include: \n\n\nSalumi misti di qualità \n\n\nFritto misto (patatine\, nuggets e altre sfiziosità) \n\n\nOlive \n\n\nFiori di zucca \n\n\nPizza in tranci con varietà maxi: Capricciosa\, Margherita\, Marinara\, Quattro formaggi \n\n\nDolce tipico: Sbrisolona con grappa \n\n\nE per rendere la serata ancora più frizzante: Birra a volontà illimitata! 🍻 \nIl tutto al prezzo esclusivo di 25 € a persona. \n🎶 Musica e Divertimento dalle 21:00 con il Party 2000\nDalle 21:00\, si accendono le luci del palco e parte la festa! Il Party 2000 riporta in scena i grandi successi degli anni 2000 con DJ set e animazione: dai tormentoni pop e dance ai brani indimenticabili di quegli anni\, per una notte di puro divertimento. \nUn tuffo nel passato che farà ballare e cantare tutti\, tra costumi a tema\, energia e voglia di stare insieme. \n📍 Dove e Come Partecipare\n📌 Cala de Or – Via Zamboni\, Desenzano del Garda (BS) 📞 Prenotazione obbligatoria al 342 306 4016 🌐 Info su www.solerelax.it \n⚠️ Posti limitati – Assicurati il tuo tavolo e non perdere questa occasione! \n\n✅ Perché Partecipare:\n\n\nLocation esclusiva sul Lago di Garda \n\n\nMenù ricco e birra illimitata \n\n\nMusica revival anni 2000 \n\n\nAtmosfera unica e coinvolgente \n\n\nNon perdere il miglior evento dell’estate a Desenzano del Garda! Prenota ora il tuo posto per l’Apericena in Terrazza con Party 2000 e vivi una serata magica sotto le stelle! \nParty 2000 – Cala de Or – Desenzano del Garda – Apericena in Terrazza – Sabato 14 Giugno – menu \n
URL:https://solerelax.it/event/party-2000-cala-de-or/
LOCATION:Via Zamboni - Loc. Spiaggia d'Oro\, Desenzano del Garda\, Brescia\, 25015\, Italia
CATEGORIES:Bar Cala de Or
ATTACH;FMTTYPE=image/jpeg:https://solerelax.it/wp-content/uploads/2025/06/Party-2000-Cala-de-Or-Desenzano-del-Garda-Apericena-in-Terrazza-Sabato-14-Giugno.jpg
END:VEVENT
END:VCALENDAR