BEGIN:VCALENDAR
VERSION:2.0
PRODID:-//Sole Relax - ECPv4.5.13//NONSGML v1.0//EN
CALSCALE:GREGORIAN
METHOD:PUBLISH
X-WR-CALNAME:Sole Relax
X-ORIGINAL-URL:https://solerelax.it
X-WR-CALDESC:Events for Sole Relax
BEGIN:VEVENT
DTSTART;TZID=UTC+0:20250601T150000
DTEND;TZID=UTC+0:20250602T190000
DTSTAMP:20260422T001301
CREATED:20250527T102443Z
LAST-MODIFIED:20250527T102443Z
UID:7216-1748790000-1748890800@solerelax.it
SUMMARY:1 e 2 Giugno 2025 Gonfiabili al Parco Desenzani
DESCRIPTION:Gonfiabili al Parco Desenzani: divertimento per bambini a Castiglione delle Stiviere il 1 e 2 giugno 2025\nIl Parco Desenzani di Castiglione delle Stiviere si trasforma in un’area giochi a cielo aperto per due giorni di puro divertimento: domenica 1 giugno e lunedì 2 giugno 2025 arrivano i gonfiabili giganti per la gioia di tutti i bambini! \nOrganizzato dal Kiosco Desenzani\, questo evento è pensato per le famiglie che desiderano trascorrere un pomeriggio all’aria aperta in un ambiente sicuro\, accogliente e ricco di attività. A partire dalle 15:30\, il parco si animerà con coloratissimi gonfiabili a tema cartoni animati\, scivoli e giochi morbidi ideali per far divertire bimbi di ogni età in tutta tranquillità. \nMerenda golosa per tutti i bambini\nDurante l’evento sarà disponibile una speciale merenda a prezzo promozionale: pane e Nutella + bibita a soli €4\,50. Una pausa golosa e conveniente per ricaricare le energie tra un salto e l’altro! Il nostro chiosco propone anche altre opzioni di snack e bevande fresche per genitori e accompagnatori. \nUn evento per tutta la famiglia\nIl Parco Desenzani è il luogo perfetto per passare del tempo di qualità con i propri figli. Ombra naturale\, tavoli\, sedie\, e una comoda area ristoro rendono l’esperienza piacevole anche per i grandi. \nDove e quando\n📍 Kiosco Desenzani – Parco Desenzani\, Via Zanardelli\, Castiglione delle Stiviere (MN) 🗓 Domenica 1 e Lunedì 2 Giugno 2025 🕒 Dalle 15:30 alle 19:00 \n📞 Info: 370 316 2175 🌐 www.solerelax.it \n\nNon perdere l’occasione di partecipare a uno degli eventi per bambini più attesi dell’estate a Castiglione delle Stiviere! Ti aspettiamo al Parco Desenzani per due pomeriggi indimenticabili all’insegna del gioco\, del sorriso e del relax. \n
URL:https://solerelax.it/event/1-2-giugno-2025-gonfiabili-al-parco-desenzani/
LOCATION:via Zanardelli\, Castiglione delle Stiviere\, 46043\, Italia
CATEGORIES:K.des Kiosco Desenzani
ATTACH;FMTTYPE=image/jpeg:https://solerelax.it/wp-content/uploads/2025/05/1-e-2-Giugno-2025-Gonfiabili-al-Parco-Desenzani-.jpg
END:VEVENT
BEGIN:VEVENT
DTSTART;TZID=UTC+0:20250601T153000
DTEND;TZID=UTC+0:20250601T220000
DTSTAMP:20260422T001301
CREATED:20250526T093144Z
LAST-MODIFIED:20250526T095534Z
UID:7209-1748791800-1748815200@solerelax.it
SUMMARY:Ogni Domenica di Giugno dj Benda Aperitivo in Spiaggia
DESCRIPTION:Aperitivo in Spiaggia a Desenzano: ogni domenica di giugno con DJ Benda al Cala de Or\nSe stai cercando un aperitivo sul lago di Garda unico\, coinvolgente e immerso nella bellezza del tramonto\, il tuo appuntamento fisso è al Cala de Or! Per tutto il mese di giugno\, ogni domenica pomeriggio a partire dalle 15:30\, ti aspettiamo con l’evento più frizzante dell’estate: Aperitivo in Spiaggia con DJ Benda. \nSituato nella suggestiva Spiaggia d’Oro di Desenzano del Garda\, il Cala de Or offre un’esperienza esclusiva tra drink freschi\, musica coinvolgente e un’atmosfera rilassata in riva al lago. Ogni domenica potrai sorseggiare il tuo cocktail preferito mentre il DJ set dal vivo di DJ Benda anima la spiaggia con ritmi estivi perfetti per accompagnare il tuo relax. \nL’aperitivo a Desenzano del Garda non è mai stato così suggestivo: un mix perfetto tra natura\, divertimento e convivialità. Il nostro chiosco bar ti propone una selezione di drink artigianali\, vini locali e stuzzichini per rendere il tuo pomeriggio speciale. Che tu sia in compagnia degli amici\, in coppia o da solo\, qui troverai il posto ideale per goderti il tramonto sul lago di Garda in una cornice magica. \n📍 Dove siamo: Cala de Or si trova in Via Zamboni\, località Spiaggia d’Oro – Desenzano del Garda (BS) 📅 Quando: Ogni domenica di giugno\, dalle 15:30 in poi 🎧 Musica: DJ Benda – Live set sulla spiaggia 📞 Contatti: 342 306 4016 🌐 Sito web: www.solerelax.it \nL’ingresso è libero\, per vivere al meglio questa esperienza estiva unica! \nNon perdere l’occasione di vivere il vero aperitivo sul lago a Desenzano\, in una location esclusiva tra sole\, musica e buon cibo. Ti aspettiamo al Cala de Or\, ogni domenica di giugno. \n
URL:https://solerelax.it/event/domenica-giugno-dj-benda-aperitivo-spiaggia/
LOCATION:Via Zamboni - Loc. Spiaggia d'Oro\, Desenzano del Garda\, Brescia\, 25015\, Italia
CATEGORIES:Bar Cala de Or
ATTACH;FMTTYPE=image/jpeg:https://solerelax.it/wp-content/uploads/2025/05/Ogni-Domenica-di-Giugno-dj-Benda.jpg
END:VEVENT
BEGIN:VEVENT
DTSTART;TZID=UTC+0:20250601T170000
DTEND;TZID=UTC+0:20250601T210000
DTSTAMP:20260422T001301
CREATED:20250526T100658Z
LAST-MODIFIED:20250526T100658Z
UID:7212-1748797200-1748811600@solerelax.it
SUMMARY:Concerto di Marco & Company
DESCRIPTION:Concerto di Marco & Company – Domenica 1 Giugno al Kiosco Desenzani: Musica Live\, Birra e Pizza al Parco\nIl K.DES Kiosco Desenzani è pronto ad accogliervi domenica 1 giugno 2025 per un imperdibile appuntamento all’insegna della musica dal vivo\, del relax nel verde e dei sapori genuini. A partire dalle ore 17:00\, il Parco Desenzani di Castiglione delle Stiviere si trasformerà in un palcoscenico naturale per il concerto di Marco & Company\, una formazione musicale apprezzata per il suo repertorio coinvolgente\, adatto a tutte le età. \nL’evento\, organizzato in collaborazione con la Nuova Associazione Musicale San Giovanni Bosco di Isorella\, si inserisce in una serie di iniziative pensate per valorizzare la socialità\, la musica e gli spazi verdi del nostro territorio. Il Kiosco Desenzani\, da sempre punto di riferimento per famiglie\, giovani e appassionati di natura\, offre un ambiente accogliente dove gustare un aperitivo\, rilassarsi con gli amici e vivere esperienze uniche a contatto con la natura. \nIn occasione del concerto\, sarà disponibile un menu speciale che comprende birra e trancio di pizza a soli €7\,00\, ideale per godersi la serata con gusto e semplicità. Non è necessaria la prenotazione\, l’ingresso è libero e l’evento è aperto a tutti. \nSe sei alla ricerca di eventi musicali a Castiglione delle Stiviere o vuoi semplicemente passare una domenica diversa\, immerso nel verde e accompagnato da buona musica\, non puoi mancare. Il Concerto di Marco & Company è l’occasione perfetta per scoprire il Parco Desenzani\, e lasciarti trasportare dalle note di un gruppo che sa come creare atmosfera. \n📍 Ti aspettiamo al K.DES Kiosco Desenzani – Via Zanardelli\, Castiglione delle Stiviere (MN) 📞 Per informazioni: 370 316 2175 🌐 Visita il sito: www.solerelax.it \nVivi la musica\, vivi il parco – solo con Sole Relax. \n
URL:https://solerelax.it/event/concerto-marco-company/
LOCATION:via Zanardelli\, Castiglione delle Stiviere\, 46043\, Italia
CATEGORIES:K.des Kiosco Desenzani
ATTACH;FMTTYPE=image/jpeg:https://solerelax.it/wp-content/uploads/2025/05/Concerto-di-Marco-Company-1-giugno.jpg
END:VEVENT
END:VCALENDAR