BEGIN:VCALENDAR
VERSION:2.0
PRODID:-//Sole Relax - ECPv4.5.13//NONSGML v1.0//EN
CALSCALE:GREGORIAN
METHOD:PUBLISH
X-WR-CALNAME:Sole Relax
X-ORIGINAL-URL:https://solerelax.it
X-WR-CALDESC:Events for Sole Relax
BEGIN:VEVENT
DTSTART;TZID=UTC+0:20250510T150000
DTEND;TZID=UTC+0:20250510T200000
DTSTAMP:20260422T015602
CREATED:20250506T120939Z
LAST-MODIFIED:20250506T123816Z
UID:7155-1746889200-1746907200@solerelax.it
SUMMARY:Aperitivo in Spiaggia con DJ Nicole
DESCRIPTION:🎉 Aperitivo in Spiaggia con DJ Nicole Fontana – Sabato 10 Maggio a Desenzano del Garda 🎶 \nSabato 10 maggio 2025\, preparati a vivere un’esperienza unica direttamente sulla spiaggia con il nostro esclusivo Aperitivo in Spiaggia presso il Cala de Or di Desenzano del Garda (BS)\, in via Zamboni. Dalle ore 15:00\, il sole e il lago faranno da cornice a un pomeriggio all’insegna della musica\, del divertimento e dei cocktail rinfrescanti. La protagonista della giornata sarà la talentuosa DJ Nicole Fontana\, pronta a far vibrare l’intera spiaggia con un dj set carico di energia\, ritmo e good vibes. \nL’evento nasce dalla collaborazione tra Niky Voice e VG Events\, due realtà consolidate nel mondo degli eventi e dell’intrattenimento sul Lago di Garda\, garanzia di qualità e atmosfera coinvolgente. Sarà l’occasione perfetta per rilassarsi in compagnia\, conoscere nuova gente e lasciarsi trasportare dal sound inconfondibile di una delle DJ più apprezzate della scena locale. \nChe tu sia residente\, turista o semplicemente in cerca di qualcosa di speciale da fare nel weekend\, l’Aperitivo in Spiaggia a Desenzano del Garda è l’evento che fa per te. Porta gli amici\, indossa il sorriso e lasciati conquistare dall’atmosfera estiva e frizzante del Cala de Or\, il luogo ideale dove sorseggiare un drink con i piedi nella sabbia\, guardando il sole scendere sul Lago di Garda. \n📍 Dove: Cala de Or\, via Zamboni – Desenzano del Garda (BS) 🗓 Quando: Sabato 10 maggio 2025 ⏰ Orario: Dalle 15:00 fino a sera 📞 Info & Prenotazioni: 342 306 4016 \n👉 Non mancare: l’estate inizia qui\, con un aperitivo sulla spiaggia che non dimenticherai! Segui anche i nostri canali social per restare aggiornato su tutti gli eventi firmati Cala de Or. \n
URL:https://solerelax.it/event/aperitivo-in-spiaggia-con-dj-nicole/
LOCATION:Via Zamboni - Loc. Spiaggia d'Oro\, Desenzano del Garda\, Brescia\, 25015\, Italia
CATEGORIES:Bar Cala de Or
ATTACH;FMTTYPE=image/jpeg:https://solerelax.it/wp-content/uploads/2025/05/10-maggio-dj-nicole-vivigarda-b-.jpg
END:VEVENT
BEGIN:VEVENT
DTSTART;TZID=UTC+0:20250510T193000
DTEND;TZID=UTC+0:20250510T233000
DTSTAMP:20260422T015602
CREATED:20250505T101110Z
LAST-MODIFIED:20250505T101110Z
UID:7151-1746905400-1746919800@solerelax.it
SUMMARY:Buffet in Musica - Sabato 10 Maggio al K.DES
DESCRIPTION:🎉 Buffet in Musica al Kiosco Desenzani – Sabato 10 Maggio 🎶\nNon perdere l’appuntamento imperdibile di sabato 10 maggio al Kiosco Desenzani\, nel cuore del verde di Castiglione delle Stiviere (MN)! Unisciti a noi per una serata all’insegna del divertimento\, del gusto e della buona musica con il nostro evento esclusivo: Buffet in Musica! \n✨ Tutti i sabati di maggio\, il Kiosco Desenzani si trasforma in un punto d’incontro perfetto per amici\, coppie e gruppi che vogliono rilassarsi con un’atmosfera conviviale e musica dal vivo. \n\n🍴 Dalle 19:30 alle 21:00 – Buffet + Drink\nInizia la serata con un ricco buffet accompagnato da un drink alcolico incluso e bevande analcoliche illimitate\, tutto al prezzo speciale di soli €15\,00. Un’occasione perfetta per gustare ottimo cibo all’aperto\, circondati da luci soffuse e vibrazioni estive. \n📞 Prenotazione consigliata al numero: 370 316 2175 \n\n🎧 Dalle 21:00 – DJ Set con DJ Floso\nA seguire\, dalle 21:00\, si accendono i ritmi della serata con il DJ set live di DJ Floso\, che vi farà ballare con una selezione di musica dance dagli anni ‘70\, ‘80\, ‘90 fino ai 2000. L’ingresso al DJ set è completamente gratuito – basta portare la voglia di divertirsi! \n\n📍 Dove si svolge l’evento?\nKiosco Desenzani Via Zanardelli – Castiglione delle Stiviere (MN) 🌐 www.solerelax.it \n
URL:https://solerelax.it/event/buffet-musica-sabato-10-maggio-al-k-des/
LOCATION:via Zanardelli\, Castiglione delle Stiviere\, Brescia\, 46043\, Italia
CATEGORIES:K.des Kiosco Desenzani
ATTACH;FMTTYPE=image/jpeg:https://solerelax.it/wp-content/uploads/2025/05/buffet-in-musica-sabato-10-maggio-al-k.des_.jpg
END:VEVENT
END:VCALENDAR