BEGIN:VCALENDAR
VERSION:2.0
PRODID:-//Sole Relax - ECPv4.5.13//NONSGML v1.0//EN
CALSCALE:GREGORIAN
METHOD:PUBLISH
X-WR-CALNAME:Sole Relax
X-ORIGINAL-URL:https://solerelax.it
X-WR-CALDESC:Events for Sole Relax
BEGIN:VEVENT
DTSTART;TZID=UTC+0:20250502T150000
DTEND;TZID=UTC+0:20250504T230000
DTSTAMP:20260422T015421
CREATED:20250505T092655Z
LAST-MODIFIED:20250505T092655Z
UID:7145-1746198000-1746399600@solerelax.it
SUMMARY:Aperitivo in Spiaggia con Dj set
DESCRIPTION:
URL:https://solerelax.it/event/aperitivo-spiaggia-dj-set/
LOCATION:Via Zamboni - Loc. Spiaggia d'Oro\, Desenzano del Garda\, Brescia\, 25015\, Italia
ATTACH;FMTTYPE=image/jpeg:https://solerelax.it/wp-content/uploads/2025/05/Immagine-2025-04-30-120305-.jpg
END:VEVENT
BEGIN:VEVENT
DTSTART;TZID=UTC+0:20250502T153000
DTEND;TZID=UTC+0:20250502T190000
DTSTAMP:20260422T015421
CREATED:20250505T092547Z
LAST-MODIFIED:20250505T092547Z
UID:7142-1746199800-1746212400@solerelax.it
SUMMARY:2 maggio - Gonfiabili al K.DES
DESCRIPTION:
URL:https://solerelax.it/event/2-maggio-gonfiabili-al-k-des/
LOCATION:via Zanardelli\, Castiglione delle Stiviere\, Brescia\, 46043\, Italia
CATEGORIES:K.des Kiosco Desenzani
ATTACH;FMTTYPE=image/jpeg:https://solerelax.it/wp-content/uploads/2025/05/Immagine-2025-04-30-120840-.jpg
END:VEVENT
END:VCALENDAR