BEGIN:VCALENDAR
VERSION:2.0
PRODID:-//Sole Relax - ECPv4.5.13//NONSGML v1.0//EN
CALSCALE:GREGORIAN
METHOD:PUBLISH
X-WR-CALNAME:Sole Relax
X-ORIGINAL-URL:https://solerelax.it
X-WR-CALDESC:Events for Sole Relax
BEGIN:VEVENT
DTSTART;TZID=UTC+0:20250425T153000
DTEND;TZID=UTC+0:20250425T180000
DTSTAMP:20260422T034550
CREATED:20250417T082650Z
LAST-MODIFIED:20250417T082650Z
UID:7108-1745595000-1745604000@solerelax.it
SUMMARY:Gonfiabili a Castiglione delle Stiviere
DESCRIPTION: Gonfiabili a Castiglione delle Stiviere – Grande successo per i Gonfiabili al Parco Desenzani: nuove date aggiunte!  \nIl divertimento continua con i Gonfiabili a Castiglione delle Stiviere! Vista la straordinaria partecipazione e l’entusiasmo di grandi e piccini\, Kiosco Desenzani è felice di annunciare tre nuove imperdibili date per l’evento Gonfiabili 2025! Aggiungiamo al calendario i giorni Venerdì 25 aprile\, Domenica 11 maggio e Domenica 25 maggio\, per regalare ancora più sorrisi e spensieratezza alle famiglie del territorio. \n L’appuntamento è sempre lo stesso: dalle 15:30 al Parco Desenzani\, nel cuore verde di Castiglione delle Stiviere. Un pomeriggio all’aria aperta\, tra natura e giochi gonfiabili colorati\, ideale per far divertire i bambini in totale sicurezza mentre i genitori si rilassano nel nostro chiosco. \n E per merenda? Torna il nostro golosissimo menu speciale “Pane e Nutella + Bibita” a soli 4\,50 €\, preparato al momento con ingredienti di qualità. Una pausa gustosa e conveniente per ricaricare le energie tra una corsa e l’altra! \n Ricorda tutte le date aggiornate: \n\n\nDomenica 20 aprile \n\n\nLunedì 21 aprile \n\n\nVenerdì 25 aprile (NUOVA DATA!) \n\n\nDomenica 27 aprile \n\n\nDomenica 11 maggio (NUOVA DATA!) \n\n\nDomenica 25 maggio (NUOVA DATA!) \n\n\n Segui il profilo di @solerelax.it su Instagram\, Facebook e TikTok per rimanere aggiornato su eventuali altre date aggiuntive\, novità\, foto dell’evento e promozioni! \n Per informazioni: 370 316 2175  Scopri di più su www.solerelax.it  Via Zanardelli – Castiglione delle Stiviere (MN) \nNon perdere l’occasione di far vivere ai tuoi bimbi una giornata indimenticabile con i gonfiabili più divertenti della zona! Ti aspettiamo con tante sorprese\, risate e l’energia contagiosa del Kiosco Desenzani.  \n
URL:https://solerelax.it/event/gonfiabili-castiglione-delle-stiviere/
LOCATION:via Zanardelli\, Castiglione delle Stiviere\, 46043\, Italia
CATEGORIES:K.des Kiosco Desenzani
ATTACH;FMTTYPE=image/jpeg:https://solerelax.it/wp-content/uploads/2025/04/gonfiabili-a-castiglione-delle-stiviere-2025-date-al-parco-desenzani-.jpg
END:VEVENT
BEGIN:VEVENT
DTSTART;TZID=UTC+0:20250425T153000
DTEND;TZID=UTC+0:20250425T220000
DTSTAMP:20260422T034550
CREATED:20250417T083859Z
LAST-MODIFIED:20250417T083859Z
UID:7111-1745595000-1745618400@solerelax.it
SUMMARY:Aperitivo in Spiaggia con Dj Benda - Cala de Or
DESCRIPTION:Aperitivo in Spiaggia con DJ Benda – Cala de Or\, Desenzano del Garda \nIl 25 aprile non prendere impegni: ti aspettiamo per un pomeriggio di musica\, sole e divertimento sul Lago di Garda! Cala de Or\, lo storico chiosco sulla Spiaggia d’Oro di Desenzano del Garda\, organizza uno degli eventi più attesi della primavera: “Aperitivo in Spiaggia con DJ Benda”. \nA partire dalle 15:30\, vivi l’esperienza di un aperitivo unico con i piedi nella sabbia e un drink in mano\, accompagnato dalla selezione musicale coinvolgente di DJ Benda\, pronto a far vibrare la spiaggia con un mix di house\, deep e hit del momento. \n🍹 SPECIAL DRINK: SPRITZ TRICOLORE a soli 6 euro! Un omaggio ai colori d’Italia per celebrare insieme la Festa della Liberazione\, questo drink è perfetto per rinfrescare il pomeriggio e iniziare la bella stagione con il piede giusto. \n📍 Location esclusiva: Cala de Or si trova in Via Zamboni\, località Spiaggia d’Oro – Desenzano del Garda (BS)\, una delle zone più belle e frequentate del lago\, facilmente raggiungibile anche a piedi o in bicicletta dal centro di Desenzano. \n🎶 Musica\, cocktail e atmosfera unica: L’evento è l’occasione ideale per chi cerca un momento di relax e socialità in uno scenario naturale spettacolare. Che tu sia in coppia\, con amici o in famiglia\, l’Aperitivo in Spiaggia è perfetto per iniziare il weekend lungo con il sorriso. \n📞 Per informazioni e prenotazioni tavoli: Chiama il 342 306 4016 o visita il sito ufficiale www.solerelax.it. \n
URL:https://solerelax.it/event/aperitivo-spiaggia-dj-benda-2/
LOCATION:Via Zamboni - Loc. Spiaggia d'Oro\, Desenzano del Garda\, Brescia\, 25015\, Italia
CATEGORIES:Bar Cala de Or
ATTACH;FMTTYPE=image/jpeg:https://solerelax.it/wp-content/uploads/2025/04/Aperitivo-in-Spiaggia-con-Dj-Benda-25-aprile-2025-a-Cala-de-Or-.jpg
END:VEVENT
BEGIN:VEVENT
DTSTART;TZID=UTC+0:20250425T153000
DTEND;TZID=UTC+0:20250425T220000
DTSTAMP:20260422T034550
CREATED:20250417T094225Z
LAST-MODIFIED:20250417T094225Z
UID:7119-1745595000-1745618400@solerelax.it
SUMMARY:Karaoke al Parco Desenzani
DESCRIPTION:🎤 Karaoke al Parco Desenzani il 25 Aprile – Divertimento assicurato con DJ Donato! \nSe stai cercando un modo divertente e coinvolgente per trascorrere il 25 aprile a Castiglione delle Stiviere\, non perdere l’attesissimo evento Karaoke al Parco Desenzani\, organizzato dal Kiosco Desenzani. Un pomeriggio all’insegna della musica\, del divertimento e dell’energia positiva\, immersi nel verde del bellissimo parco cittadino. \n🕞 L’evento inizierà alle 15:30 con la carismatica presenza di DJ Donato\, pronto a far cantare e ballare grandi e piccini con una selezione musicale coinvolgente. Che tu sia un appassionato di karaoke o semplicemente voglia divertirti in compagnia\, questa è l’occasione giusta per dare voce al tuo talento… o semplicemente farti una risata con gli amici! \n🎈In contemporanea\, per la gioia dei più piccoli\, saranno presenti i gonfiabili\, creando un’atmosfera perfetta per famiglie e bambini. Un evento pensato per tutti: genitori\, bambini\, giovani e meno giovani\, con musica\, giochi e tanta voglia di stare insieme all’aria aperta. \n📍Il Kiosco Desenzani\, situato nel cuore del Parco Desenzani (Via Zanardelli\, Castiglione delle Stiviere – MN)\, sarà il punto nevralgico dell’intrattenimento del 25 aprile. Un’ottima occasione anche per gustare snack\, bevande fresche o un buon caffè immersi nella natura. \n🌐 Per ulteriori dettagli\, visita il sito ufficiale www.solerelax.it 📞 Info al numero: 370 316 2175 🎟️ Ingresso gratuito – Porta con te amici\, parenti e il tuo entusiasmo! \n📅 Segna la data: Venerdì 25 aprile\, dalle 15:30 in poi 📍 Location: Parco Desenzani – Castiglione delle Stiviere (MN) 🎶 Evento: Karaoke con DJ Donato + gonfiabili per bambini 🎉 Organizzato da: Kiosco Desenzani – Sole Relax \nNon mancare all’evento musicale più allegro della primavera! Usa gli hashtag #KioscoDesenzani #KaraokeAlParco #25AprileCastiglione per condividere le tue storie su Instagram\, Facebook o TikTok! \n
URL:https://solerelax.it/event/karaoke-al-parco-desenzani/
LOCATION:via Zanardelli\, Castiglione delle Stiviere\, 46043\, Italia
CATEGORIES:K.des Kiosco Desenzani
ATTACH;FMTTYPE=image/jpeg:https://solerelax.it/wp-content/uploads/2025/04/Karaoke-al-Parco-Desenzani-25-Aprile-2025-con-Dj-Donato-a-Castiglione-delle-Stiviere-.jpg
END:VEVENT
END:VCALENDAR