BEGIN:VCALENDAR
VERSION:2.0
PRODID:-//Sole Relax - ECPv4.5.13//NONSGML v1.0//EN
CALSCALE:GREGORIAN
METHOD:PUBLISH
X-WR-CALNAME:Sole Relax
X-ORIGINAL-URL:https://solerelax.it
X-WR-CALDESC:Events for Sole Relax
BEGIN:VEVENT
DTSTART;TZID=UTC+0:20250419T150000
DTEND;TZID=UTC+0:20250419T210000
DTSTAMP:20260422T034550
CREATED:20250402T143626Z
LAST-MODIFIED:20250402T143626Z
UID:7044-1745074800-1745096400@solerelax.it
SUMMARY:Aperitivo in Spiaggia con Dj Fabio
DESCRIPTION:Aperitivo in Spiaggia con DJ Fabio Morati – Sabato 19 Aprile a Cala de Or\, Desenzano del Garda \nSe stai cercando un’esperienza unica per il tuo sabato pomeriggio\, non perdere l’aperitivo in spiaggia a Cala de Or\, situato in via Zamboni\, Desenzano del Garda (BS)\, località Spiaggia d’Oro. Un evento esclusivo dove musica\, cocktail e relax si fondono in un’atmosfera indimenticabile. \nL’appuntamento è per sabato 19 Aprile dalle ore 15:00\, con la selezione musicale di DJ Fabio Morati\, pronto a regalarti un sound coinvolgente e perfetto per accompagnare il tramonto sul Lago di Garda. \nCocktail Speciale: Bellini a soli €4\,50\nPer rendere il tuo aperitivo ancora più speciale\, approfitta della promo esclusiva sul Bellini a soli €4\,50! Un cocktail fresco e fruttato\, ideale per esaltare l’atmosfera rilassata della spiaggia e goderti un momento di puro piacere. \nUna location da sogno sul Lago di Garda\nSituata in località Spiaggia d’Oro\, Cala de Or è il luogo perfetto per un aperitivo vista lago\, con i piedi nell’acqua e un drink in mano. Che tu voglia divertirti al ritmo del DJ set o rilassarti con un cocktail al tramonto\, questo evento è la scelta ideale per un sabato fuori dal comune. \nUn evento organizzato da Sole Relax Managements in collaborazione con Vivi Garda Events\nL’aperitivo in spiaggia è organizzato da Sole Relax Managements\, in collaborazione con Vivi Garda Events\, garanzia di eventi esclusivi e serate indimenticabili sul Lago di Garda. \nPerché partecipare?\n\nMusica live con DJ Fabio Morati\nPromo speciale Bellini a €4\,50\nAtmosfera esclusiva in riva al lago\nLocation suggestiva a Desenzano del Garda\nUn mix perfetto di relax e divertimento\n\nInformazioni e Contatti\n📍 Cala de Or – Via Zamboni\, Desenzano del Garda (BS) – Spiaggia d’Oro\n📞 Per info e prenotazioni: 342 306 4016 \nNon lasciarti sfuggire l’evento più atteso della primavera! Vieni a vivere un aperitivo indimenticabile sulla spiaggia con musica\, drink e la magia del Lago di Garda. \n
URL:https://solerelax.it/event/aperitivo-spiaggia-dj-fabio/
LOCATION:Via Zamboni - Loc. Spiaggia d'Oro\, Desenzano del Garda\, Brescia\, 25015\, Italia
CATEGORIES:Bar Cala de Or
ATTACH;FMTTYPE=image/jpeg:https://solerelax.it/wp-content/uploads/2025/04/Aperitivo-in-Spiaggia-19-aprile-Cala-de-Or-dj-fabio-morato-.jpg
END:VEVENT
BEGIN:VEVENT
DTSTART;TZID=UTC+0:20250419T193000
DTEND;TZID=UTC+0:20250419T233000
DTSTAMP:20260422T034550
CREATED:20250417T095837Z
LAST-MODIFIED:20250417T095837Z
UID:7122-1745091000-1745105400@solerelax.it
SUMMARY:Buffet in Musica - 19 Aprile al K.DES
DESCRIPTION:Buffet in Musica – Sabato 19 aprile al K.DES Kiosco Desenzani (Castiglione delle Stiviere) \nIl sabato sera a Castiglione delle Stiviere si accende di gusto e ritmo con il ritorno dell’evento più amato della primavera: Buffet in Musica\, in programma sabato 19 aprile al K.DES – Kiosco Desenzani! \nImmerso nel verde del parco di via Zanardelli\, il Kiosco Desenzani ti accoglie per una serata speciale fatta di buon cibo\, atmosfera conviviale e tanta musica da ballare. A partire dalle 19:30\, potrai gustare un buffet ricco e variegato\, accompagnato da 1 drink alcolico incluso e analcolici illimitati\, al prezzo speciale di 15\,00 euro. È l’occasione ideale per godersi un apericena tra amici\, in coppia o in famiglia\, nella cornice rilassata e accogliente del K.DES. \nPer garantirti un posto riservato\, ti consigliamo di prenotare al numero 370 316 2175. \nMa il vero cuore della serata arriva dalle 21:00 in poi\, quando il DJ Set by Floso darà il via alla festa con una selezione di hit intramontabili dagli anni ’70\, ’80\, ’90 e 2000. Un viaggio musicale che farà scatenare chi ama le vibrazioni della dance old school e l’energia delle canzoni che hanno fatto la storia. \nL’ingresso è libero a partire dalle 21:00\, anche per chi vuole semplicemente godersi la musica e l’atmosfera festosa. \nBuffet in Musica non è solo un evento\, ma un vero e proprio appuntamento del sabato sera a Castiglione delle Stiviere\, perfetto per chi cerca un’alternativa originale e coinvolgente tra apericena e serata danzante. Il Kiosco Desenzani\, con il suo mix di natura\, musica e sapori\, è il luogo perfetto per vivere un sabato all’insegna del relax e del divertimento. \n📍 K.DES – Kiosco Desenzani📅 Sabato 19 aprile 2025📞 Prenotazioni: 370 316 2175 \n
URL:https://solerelax.it/event/buffet-musica-19-aprile-al-k-des/
LOCATION:via Zanardelli\, Castiglione delle Stiviere\, Brescia\, 46043\, Italia
CATEGORIES:K.des Kiosco Desenzani
ATTACH;FMTTYPE=image/jpeg:https://solerelax.it/wp-content/uploads/2025/04/buffet-in-musica-remake-sabato-12-19-26-aprile-dj-floso-def-.jpg
END:VEVENT
END:VCALENDAR