BEGIN:VCALENDAR
VERSION:2.0
PRODID:-//Sole Relax - ECPv4.5.13//NONSGML v1.0//EN
CALSCALE:GREGORIAN
METHOD:PUBLISH
X-WR-CALNAME:Sole Relax
X-ORIGINAL-URL:https://solerelax.it
X-WR-CALDESC:Events for Sole Relax
BEGIN:VEVENT
DTSTART;TZID=UTC+0:20250323T153000
DTEND;TZID=UTC+0:20250323T190000
DTSTAMP:20260422T052824
CREATED:20250312T145550Z
LAST-MODIFIED:20250312T145550Z
UID:6970-1742743800-1742756400@solerelax.it
SUMMARY:Gonfiabili al Parco Desenzani: Divertimento per Tutta la Famiglia!
DESCRIPTION:Gonfiabili al Parco Desenzani: Divertimento per Tutta la Famiglia!\n Preparati a un pomeriggio di puro divertimento! Già da Domenica 9 Marzo\, il K.DES Kiosco Desenzani porta il magico mondo dei gonfiabili al Parco Desenzani di Castiglione delle Stiviere (MN)! Un appuntamento imperdibile per tutte le famiglie con bambini che vogliono trascorrere un pomeriggio all’insegna del gioco e dell’allegria. \n Date e Orari dell’Evento\nI gonfiabili saranno disponibili nelle seguenti date: ✔ Domenica 9\, 16\, 23\, 30 Marzo ✔ Domenica 6\, 13\, 20\, 27 Aprile ✔ Lunedì 21 Aprile ⏰ Orario: dalle 15:30 alle 19:00 \nL’evento si svolgerà presso il Parco Desenzani in via Zanardelli\, a Castiglione delle Stiviere (MN)\, una location immersa nel verde\, perfetta per far giocare i bambini in sicurezza! \nGonfiabili\, Giochi e una Merenda Golosa!\nImmagina il sorriso dei tuoi bambini mentre si divertono saltando sui gonfiabili giganti!  Un’area sicura e attrezzata per garantire un’esperienza indimenticabile ai più piccoli. \nE per ricaricare le energie? Al K.DES Kiosco Desenzani ti aspettiamo con una deliziosa merenda: pane e Nutella + bibita a soli €4\,50!  \nPerché Partecipare?\n✅ Un’esperienza divertente e sicura per i bambini ✅ Un’ottima occasione per trascorrere del tempo in famiglia all’aria aperta ✅ Location attrezzata con servizi e area ristoro ✅ Evento ricorrente\, con più date tra marzo e aprile \nNon perdere questa fantastica occasione! Ti aspettiamo al Parco Desenzani per un pomeriggio di gioia\, giochi e risate!  \n
URL:https://solerelax.it/event/gonfiabili-al-parco-desenzani/
LOCATION:via Zanardelli\, Castiglione delle Stiviere\, 46043\, Italia
CATEGORIES:K.des Kiosco Desenzani
ATTACH;FMTTYPE=image/jpeg:https://solerelax.it/wp-content/uploads/2025/03/Gonfiabili-al-K.DES-Kiosco-Desenzani-presso-il-Parco-Desenzani-di-Castiglione-delle-Stiviere-MN.jpg
END:VEVENT
BEGIN:VEVENT
DTSTART;TZID=UTC+0:20250323T163000
DTEND;TZID=UTC+0:20250323T200000
DTSTAMP:20260422T052824
CREATED:20250312T143237Z
LAST-MODIFIED:20250312T143237Z
UID:6962-1742747400-1742760000@solerelax.it
SUMMARY:Aperitivo in Spiaggia con Dj Floso
DESCRIPTION:Aperitivo in Spiaggia con DJ Set – Cala de Or\, Desenzano del Garda \n Vivi l’aperitivo più esclusivo sul Lago di Garda!  \nSe sei alla ricerca di un’esperienza unica\, tra musica\, buon cibo e un’atmosfera rilassata in riva al lago\, allora l’aperitivo in spiaggia con DJ set di Cala de Or è l’evento perfetto per te! Ogni Domenica di Marzo\, a partire dalle 16:30\, ti aspettiamo nella splendida cornice della Spiaggia d’Oro di Desenzano del Garda (BS) per un appuntamento imperdibile. \n Programma & Special Menu\nOgni domenica potrai gustare un menu speciale\, accompagnato da ottima musica e dall’energia vibrante del nostro DJ set: \n\nDomenica 16 Marzo → Fish & Chips a soli 10€ \nDomenica 23 Marzo → Cotoletta + Patatine + Bibita a 10€ \nDomenica 30 Marzo → Sangria per tutti a soli 5€ \n\nChe tu voglia rilassarti con un drink in riva al lago o divertirti con gli amici al ritmo della musica\, Cala de Or è il posto giusto per il tuo aperitivo sul Lago di Garda! \n Musica\, Lago e Relax – Un’esperienza unica\nLasciati trasportare dal sound esclusivo del DJ set\, mentre sorseggi il tuo cocktail e ammiri la bellezza del Lago di Garda. Il nostro evento è pensato per chi ama il divertimento\, il buon cibo e un’atmosfera informale ma coinvolgente. \n Dove? Cala de Or – Via Zamboni\, Località Spiaggia d’Oro\, Desenzano del Garda (BS)\n Per info chiama il 342 306 4016 \n Perché non puoi perderlo?\n\nLocation unica sul Lago di Garda con vista spettacolare \nDJ set live per un’esperienza musicale indimenticabile \nCibo e drink a prezzi speciali per un aperitivo gustoso ️\nAmbiente perfetto per un’uscita tra amici o un momento di relax dopo la settimana\n\n Segna le date e unisciti a noi per un aperitivo sulla spiaggia con il miglior mix di musica\, cibo e atmosfera! \n Quando la musica si fonde con le onde del lago… tu non puoi mancare! \n
URL:https://solerelax.it/event/aperitivo-spiaggia-dj-floso/
LOCATION:Via Zamboni - Loc. Spiaggia d'Oro\, Desenzano del Garda\, Brescia\, 25015\, Italia
CATEGORIES:Bar Cala de Or
ATTACH;FMTTYPE=image/jpeg:https://solerelax.it/wp-content/uploads/2025/03/Aperitivo-in-spiaggia-Cala-de-Or-Desenzano-del-Garda-Marzo-2025-Domeniche-con-Dj-Floso-.jpg
END:VEVENT
END:VCALENDAR