BEGIN:VCALENDAR
VERSION:2.0
PRODID:-//Sole Relax - ECPv4.5.13//NONSGML v1.0//EN
CALSCALE:GREGORIAN
METHOD:PUBLISH
X-WR-CALNAME:Sole Relax
X-ORIGINAL-URL:https://solerelax.it
X-WR-CALDESC:Events for Sole Relax
BEGIN:VEVENT
DTSTART;TZID=UTC+0:20240818T163000
DTEND;TZID=UTC+0:20240818T223000
DTSTAMP:20260422T170924
CREATED:20240809T162351Z
LAST-MODIFIED:20240809T162351Z
UID:6722-1723998600-1724020200@solerelax.it
SUMMARY:Aperitivo Cala de Or con granita alcolica
DESCRIPTION:
URL:https://solerelax.it/event/aperitivo-cala-de-or-granita-alcolica/
LOCATION:Via Zamboni - Loc. Spiaggia d'Oro\, Desenzano del Garda\, Brescia\, 25015\, Italia
CATEGORIES:Bar Cala de Or
ATTACH;FMTTYPE=image/jpeg:https://solerelax.it/wp-content/uploads/2024/08/2024-agosto-18-floso-.jpg
END:VEVENT
BEGIN:VEVENT
DTSTART;TZID=UTC+0:20240818T170000
DTEND;TZID=UTC+0:20240818T220000
DTSTAMP:20260422T170924
CREATED:20240724T101555Z
LAST-MODIFIED:20240729T140521Z
UID:6677-1724000400-1724018400@solerelax.it
SUMMARY:Karaoke Bar al Parco Pastore
DESCRIPTION:
URL:https://solerelax.it/event/karaoke-bar-al-parco-pastore-18/
LOCATION:Viale Boschetti 8\, Castiglione Delle Stiviere\, Mantova\, 46043\, Italia
CATEGORIES:Bar al Parco
ATTACH;FMTTYPE=image/jpeg:https://solerelax.it/wp-content/uploads/2024/07/karaoke-agosto-2024-Bar-al-Parco-Pastore.jpg
END:VEVENT
END:VCALENDAR