BEGIN:VCALENDAR
VERSION:2.0
PRODID:-//Sole Relax - ECPv4.5.13//NONSGML v1.0//EN
CALSCALE:GREGORIAN
METHOD:PUBLISH
X-WR-CALNAME:Sole Relax
X-ORIGINAL-URL:https://solerelax.it
X-WR-CALDESC:Events for Sole Relax
BEGIN:VEVENT
DTSTART;TZID=UTC+0:20240815T153000
DTEND;TZID=UTC+0:20240815T220000
DTSTAMP:20260422T171044
CREATED:20240729T133022Z
LAST-MODIFIED:20240729T133022Z
UID:6691-1723735800-1723759200@solerelax.it
SUMMARY:Special Ferragosto Beach Fun
DESCRIPTION:
URL:https://solerelax.it/event/special-ferragosto-beach-fun/
LOCATION:Via Zamboni - Loc. Spiaggia d'Oro\, Desenzano del Garda\, Brescia\, 25015\, Italia
CATEGORIES:Bar Cala de Or
ATTACH;FMTTYPE=image/jpeg:https://solerelax.it/wp-content/uploads/2024/07/beach-fun-ferragosto-2024-tracciato-copia-.jpg
END:VEVENT
BEGIN:VEVENT
DTSTART;TZID=UTC+0:20240815T170000
DTEND;TZID=UTC+0:20240815T220000
DTSTAMP:20260422T171044
CREATED:20240724T100228Z
LAST-MODIFIED:20240724T100402Z
UID:6663-1723741200-1723759200@solerelax.it
SUMMARY:Ferragosto a Bar al Parco Pastore con Karaoke
DESCRIPTION:
URL:https://solerelax.it/event/ferragosto-bar-al-parco-pastore-karaoke/
LOCATION:Viale Boschetti 8\, Castiglione Delle Stiviere\, Mantova\, 46043\, Italia
CATEGORIES:Bar al Parco
ATTACH;FMTTYPE=image/jpeg:https://solerelax.it/wp-content/uploads/2024/07/karaoke-agosto-2024-.jpg
END:VEVENT
BEGIN:VEVENT
DTSTART;TZID=UTC+0:20240815T210000
DTEND;TZID=UTC+0:20240815T233000
DTSTAMP:20260422T171044
CREATED:20240724T101118Z
LAST-MODIFIED:20240724T101118Z
UID:6671-1723755600-1723764600@solerelax.it
SUMMARY:Ferragosto Ballando sotto le Stelle al K.DES
DESCRIPTION:
URL:https://solerelax.it/event/ferragosto-ballando-le-stelle-al-k-des/
LOCATION:via Zanardelli\, Castiglione delle Stiviere\, Brescia\, 46043\, Italia
CATEGORIES:K.des Kiosco Desenzani
ATTACH;FMTTYPE=image/jpeg:https://solerelax.it/wp-content/uploads/2024/06/ballando-al-k.des-tutti-i-giovedì-.jpg
END:VEVENT
END:VCALENDAR