BEGIN:VCALENDAR
VERSION:2.0
PRODID:-//Sole Relax - ECPv4.5.13//NONSGML v1.0//EN
CALSCALE:GREGORIAN
METHOD:PUBLISH
X-WR-CALNAME:Sole Relax
X-ORIGINAL-URL:https://solerelax.it
X-WR-CALDESC:Events for Sole Relax
BEGIN:VEVENT
DTSTART;TZID=UTC+0:20240728T163000
DTEND;TZID=UTC+0:20240728T213000
DTSTAMP:20260422T184117
CREATED:20240703T132342Z
LAST-MODIFIED:20240703T132342Z
UID:6613-1722184200-1722202200@solerelax.it
SUMMARY:Aperitivo in spiaggia a Cala de Or
DESCRIPTION:
URL:https://solerelax.it/event/aperitivo-spiaggia-cala-de-or/
LOCATION:Via Zamboni - Loc. Spiaggia d'Oro\, Desenzano del Garda\, Brescia\, 25015\, Italia
CATEGORIES:Bar Cala de Or
ATTACH;FMTTYPE=image/jpeg:https://solerelax.it/wp-content/uploads/2024/07/domenica-28-luglio-dj-benda-.jpg
END:VEVENT
BEGIN:VEVENT
DTSTART;TZID=UTC+0:20240728T163000
DTEND;TZID=UTC+0:20240728T203000
DTSTAMP:20260422T184117
CREATED:20240718T105017Z
LAST-MODIFIED:20240718T105017Z
UID:6647-1722184200-1722198600@solerelax.it
SUMMARY:Karaoke a Bar al Parco Pastore
DESCRIPTION:
URL:https://solerelax.it/event/karaoke-bar-al-parco-pastore-15/
LOCATION:Viale Boschetti 8\, Castiglione Delle Stiviere\, Mantova\, 46043\, Italia
CATEGORIES:Bar al Parco
ATTACH;FMTTYPE=image/jpeg:https://solerelax.it/wp-content/uploads/2024/07/karaoke-28-luglio-2024-.jpg
END:VEVENT
BEGIN:VEVENT
DTSTART;TZID=UTC+0:20240728T173000
DTEND;TZID=UTC+0:20240728T213000
DTSTAMP:20260422T184117
CREATED:20240701T122545Z
LAST-MODIFIED:20240719T130301Z
UID:6601-1722187800-1722202200@solerelax.it
SUMMARY:Gonfiabili del K.DES
DESCRIPTION:
URL:https://solerelax.it/event/gonfiabili-del-k-des/
LOCATION:via Zanardelli\, Castiglione delle Stiviere\, Brescia\, 46043\, Italia
CATEGORIES:K.des Kiosco Desenzani
ATTACH;FMTTYPE=image/jpeg:https://solerelax.it/wp-content/uploads/2024/07/gonfiabili-luglio-2024-al-k.des-.jpg
END:VEVENT
END:VCALENDAR