BEGIN:VCALENDAR
VERSION:2.0
PRODID:-//Sole Relax - ECPv4.5.13//NONSGML v1.0//EN
CALSCALE:GREGORIAN
METHOD:PUBLISH
X-WR-CALNAME:Sole Relax
X-ORIGINAL-URL:https://solerelax.it
X-WR-CALDESC:Events for Sole Relax
BEGIN:VEVENT
DTSTART;TZID=UTC+0:20240714T163000
DTEND;TZID=UTC+0:20240714T203000
DTSTAMP:20260422T184115
CREATED:20240627T100820Z
LAST-MODIFIED:20240627T100820Z
UID:6588-1720974600-1720989000@solerelax.it
SUMMARY:Aperitivo con granita alcolica - Cala de Or
DESCRIPTION:
URL:https://solerelax.it/event/aperitivo-granita-alcolica-cala-de-or/
CATEGORIES:Bar Cala de Or
ATTACH;FMTTYPE=image/jpeg:https://solerelax.it/wp-content/uploads/2024/06/domenica-14-luglio-dj-benda-.jpg
END:VEVENT
BEGIN:VEVENT
DTSTART;TZID=UTC+0:20240714T163000
DTEND;TZID=UTC+0:20240714T200000
DTSTAMP:20260422T184115
CREATED:20240701T122349Z
LAST-MODIFIED:20240701T122349Z
UID:6597-1720974600-1720987200@solerelax.it
SUMMARY:Gonfiabili al K.DES - Tutte le Domeniche
DESCRIPTION:
URL:https://solerelax.it/event/gonfiabili-al-k-des-tutte-le-domeniche/
LOCATION:via Zanardelli\, Castiglione delle Stiviere\, 46043\, Italia
CATEGORIES:K.des Kiosco Desenzani
ATTACH;FMTTYPE=image/jpeg:https://solerelax.it/wp-content/uploads/2024/07/gonfiabili-luglio-k.des-.jpg
END:VEVENT
BEGIN:VEVENT
DTSTART;TZID=UTC+0:20240714T163000
DTEND;TZID=UTC+0:20240714T210000
DTSTAMP:20260422T184115
CREATED:20240701T160431Z
LAST-MODIFIED:20240701T160431Z
UID:6605-1720974600-1720990800@solerelax.it
SUMMARY:Aperitivo a Bar al Parco Pastore
DESCRIPTION:
URL:https://solerelax.it/event/aperitivo-bar-al-parco-pastore-2/
LOCATION:Viale Boschetti 8\, Castiglione Delle Stiviere\, Mantova\, 46043\, Italia
CATEGORIES:Bar al Parco
ATTACH;FMTTYPE=image/jpeg:https://solerelax.it/wp-content/uploads/2024/07/14-luglio-angela-collins-dj-set-bar-al-parco-pastore-.jpg
END:VEVENT
END:VCALENDAR