BEGIN:VCALENDAR
VERSION:2.0
PRODID:-//Sole Relax - ECPv4.5.13//NONSGML v1.0//EN
CALSCALE:GREGORIAN
METHOD:PUBLISH
X-WR-CALNAME:Sole Relax
X-ORIGINAL-URL:https://solerelax.it
X-WR-CALDESC:Events for Sole Relax
BEGIN:VEVENT
DTSTART;TZID=UTC+0:20240615T163000
DTEND;TZID=UTC+0:20240615T200000
DTSTAMP:20260422T201627
CREATED:20240521T080913Z
LAST-MODIFIED:20240521T080913Z
UID:6518-1718469000-1718481600@solerelax.it
SUMMARY:Aperitivo con Dj Bragantini
DESCRIPTION:
URL:https://solerelax.it/event/aperitivo-dj-bragantini/
LOCATION:Via Zamboni - Loc. Spiaggia d'Oro\, Desenzano del Garda\, Brescia\, 25015\, Italia
CATEGORIES:Bar Cala de Or
ATTACH;FMTTYPE=image/jpeg:https://solerelax.it/wp-content/uploads/2024/05/Sabato-15-giugno-dj-bragantini-.jpg
END:VEVENT
BEGIN:VEVENT
DTSTART;TZID=UTC+0:20240615T200000
DTEND;TZID=UTC+0:20240615T230000
DTSTAMP:20260422T201627
CREATED:20240521T081855Z
LAST-MODIFIED:20240521T081855Z
UID:6521-1718481600-1718492400@solerelax.it
SUMMARY:Festa d'Estate K.DES
DESCRIPTION:
URL:https://solerelax.it/event/festa-destate-k-des/
LOCATION:via Zanardelli\, Castiglione delle Stiviere\, Brescia\, 46043\, Italia
CATEGORIES:K.des Kiosco Desenzani
ATTACH;FMTTYPE=image/jpeg:https://solerelax.it/wp-content/uploads/2024/05/festa-destate-15-giugno-k.des-.jpg
END:VEVENT
END:VCALENDAR