BEGIN:VCALENDAR
VERSION:2.0
PRODID:-//Sole Relax - ECPv4.5.13//NONSGML v1.0//EN
CALSCALE:GREGORIAN
METHOD:PUBLISH
X-WR-CALNAME:Sole Relax
X-ORIGINAL-URL:https://solerelax.it
X-WR-CALDESC:Events for Sole Relax
BEGIN:VEVENT
DTSTART;TZID=UTC+0:20240609T160000
DTEND;TZID=UTC+0:20240609T200000
DTSTAMP:20260422T215903
CREATED:20240507T134644Z
LAST-MODIFIED:20240508T124515Z
UID:6445-1717948800-1717963200@solerelax.it
SUMMARY:Gonfiabili Kiosco Desenzani
DESCRIPTION:
URL:https://solerelax.it/event/gonfiabili-kiosco-desenzani/
LOCATION:via Zanardelli\, Castiglione delle Stiviere\, 46043\, Italia
CATEGORIES:K.des Kiosco Desenzani
ATTACH;FMTTYPE=image/jpeg:https://solerelax.it/wp-content/uploads/2024/05/gonfiabili-k.des-2024.jpg
END:VEVENT
BEGIN:VEVENT
DTSTART;TZID=UTC+0:20240609T163000
DTEND;TZID=UTC+0:20240609T200000
DTSTAMP:20260422T215903
CREATED:20240521T080520Z
LAST-MODIFIED:20240521T080548Z
UID:6515-1717950600-1717963200@solerelax.it
SUMMARY:Aperitivo con Pesquito
DESCRIPTION:
URL:https://solerelax.it/event/aperitivo-con-pesquito/
LOCATION:Via Zamboni - Loc. Spiaggia d'Oro\, Desenzano del Garda\, Brescia\, 25015\, Italia
CATEGORIES:Bar Cala de Or
ATTACH;FMTTYPE=image/jpeg:https://solerelax.it/wp-content/uploads/2024/05/domenica-9-giugno-dj-benda-.jpg
END:VEVENT
END:VCALENDAR