BEGIN:VCALENDAR
VERSION:2.0
PRODID:-//Sole Relax - ECPv4.5.13//NONSGML v1.0//EN
CALSCALE:GREGORIAN
METHOD:PUBLISH
X-WR-CALNAME:Sole Relax
X-ORIGINAL-URL:https://solerelax.it
X-WR-CALDESC:Events for Sole Relax
BEGIN:VEVENT
DTSTART;TZID=UTC+0:20240425T160000
DTEND;TZID=UTC+0:20240425T190000
DTSTAMP:20260422T232614
CREATED:20240408T124718Z
LAST-MODIFIED:20240408T124718Z
UID:6384-1714060800-1714071600@solerelax.it
SUMMARY:SPECIAL LIVE K.DES
DESCRIPTION:
URL:https://solerelax.it/event/special-live-k-des/
LOCATION:via Zanardelli\, Castiglione delle Stiviere\, 46043\, Italia
CATEGORIES:K.des Kiosco Desenzani
ATTACH;FMTTYPE=image/jpeg:https://solerelax.it/wp-content/uploads/2024/04/nuova-special-live-25-aprile-kdes-kiosco-desenzani-.jpg
END:VEVENT
BEGIN:VEVENT
DTSTART;TZID=UTC+0:20240425T160000
DTEND;TZID=UTC+0:20240425T190000
DTSTAMP:20260422T232614
CREATED:20240408T125559Z
LAST-MODIFIED:20240408T125559Z
UID:6390-1714060800-1714071600@solerelax.it
SUMMARY:Aperitivo in Musica - Bar al Parco Pastore
DESCRIPTION:
URL:https://solerelax.it/event/aperitivo-musica-bar-al-parco-pastore/
LOCATION:Viale Boschetti 8\, Castiglione Delle Stiviere\, Mantova\, 46043\, Italia
CATEGORIES:Bar al Parco
ATTACH;FMTTYPE=image/jpeg:https://solerelax.it/wp-content/uploads/2024/04/25-aprile-fabiana-white-moon-q-.jpg
END:VEVENT
BEGIN:VEVENT
DTSTART;TZID=UTC+0:20240425T160000
DTEND;TZID=UTC+0:20240425T200000
DTSTAMP:20260422T232614
CREATED:20240415T141843Z
LAST-MODIFIED:20240415T141843Z
UID:6400-1714060800-1714075200@solerelax.it
SUMMARY:Aperitivo bocconcini di porchetta
DESCRIPTION:
URL:https://solerelax.it/event/aperitivo-bocconcini-porchetta/
LOCATION:Via Zamboni - Loc. Spiaggia d'Oro\, Desenzano del Garda\, Brescia\, 25015\, Italia
CATEGORIES:Bar Cala de Or
ATTACH;FMTTYPE=image/jpeg:https://solerelax.it/wp-content/uploads/2024/04/2024.04.25-domenica-25-aprile-dj-benda-aperitivo-b-tracciato-def-q-.jpg
END:VEVENT
END:VCALENDAR