BEGIN:VCALENDAR
VERSION:2.0
PRODID:-//Sole Relax - ECPv4.5.13//NONSGML v1.0//EN
CALSCALE:GREGORIAN
METHOD:PUBLISH
X-WR-CALNAME:Sole Relax
X-ORIGINAL-URL:https://solerelax.it
X-WR-CALDESC:Events for Sole Relax
BEGIN:VEVENT
DTSTART;TZID=UTC+0:20231022T150000
DTEND;TZID=UTC+0:20231022T200000
DTSTAMP:20260423T084026
CREATED:20230921T071000Z
LAST-MODIFIED:20230921T071000Z
UID:6186-1697986800-1698004800@solerelax.it
SUMMARY:Beach Fun Ottobre Cala de Or
DESCRIPTION:
URL:https://solerelax.it/event/beach-fun-ottobre-cala-de-or-3/
LOCATION:Via Zamboni - Loc. Spiaggia d'Oro\, Desenzano del Garda\, Brescia\, 25015\, Italia
CATEGORIES:Bar Cala de Or
ATTACH;FMTTYPE=image/jpeg:https://solerelax.it/wp-content/uploads/2023/09/beach-fun-tutte-le-domeniche-settembre-ed-ottobre-1-1.jpg
END:VEVENT
BEGIN:VEVENT
DTSTART;TZID=UTC+0:20231022T170000
DTEND;TZID=UTC+0:20231022T200000
DTSTAMP:20260423T084026
CREATED:20231003T143753Z
LAST-MODIFIED:20231003T143753Z
UID:6196-1697994000-1698004800@solerelax.it
SUMMARY:Aperitivo in musica con White Moon 22 ottobre 2023 Bar al Parco Pastore
DESCRIPTION:
URL:https://solerelax.it/event/aperitivo-in-musica/
LOCATION:Viale Boschetti 8\, Castiglione Delle Stiviere\, Mantova\, 46043\, Italia
CATEGORIES:Bar al Parco
ATTACH;FMTTYPE=image/jpeg:https://solerelax.it/wp-content/uploads/2023/10/22-ottobre-2023-aperitivo-in-musica-con-white-moon-.jpg
END:VEVENT
END:VCALENDAR