BEGIN:VCALENDAR
VERSION:2.0
PRODID:-//Sole Relax - ECPv4.5.13//NONSGML v1.0//EN
CALSCALE:GREGORIAN
METHOD:PUBLISH
X-WR-CALNAME:Sole Relax
X-ORIGINAL-URL:https://solerelax.it
X-WR-CALDESC:Events for Sole Relax
BEGIN:VEVENT
DTSTART;TZID=UTC+0:20231015T173000
DTEND;TZID=UTC+0:20231015T190000
DTSTAMP:20260423T083125
CREATED:20230921T065615Z
LAST-MODIFIED:20230921T065615Z
UID:6181-1697391000-1697396400@solerelax.it
SUMMARY:Beach Fun Ottobre Cala de Or
DESCRIPTION:
URL:https://solerelax.it/event/beach-fun-ottobre-cala-de-or-2/
LOCATION:Via Zamboni - Loc. Spiaggia d'Oro\, Desenzano del Garda\, Brescia\, 25015\, Italia
CATEGORIES:Bar Cala de Or
ATTACH;FMTTYPE=image/jpeg:https://solerelax.it/wp-content/uploads/2023/09/beach-fun-tutte-le-domeniche-settembre-ed-ottobre-.jpg
END:VEVENT
BEGIN:VEVENT
DTSTART;TZID=UTC+0:20231015T173000
DTEND;TZID=UTC+0:20231015T190000
DTSTAMP:20260423T083125
CREATED:20230921T070658Z
LAST-MODIFIED:20230921T070658Z
UID:6183-1697391000-1697396400@solerelax.it
SUMMARY:Viaggio attraverso le note del cinema K.DES Kiosco Desenzani
DESCRIPTION:
URL:https://solerelax.it/event/viaggio-le-note-del-cinema-k-des-kiosco-desenzani/
LOCATION:via Zanardelli\, Castiglione delle Stiviere\, Brescia\, 46043\, Italia
CATEGORIES:K.des Kiosco Desenzani
ATTACH;FMTTYPE=image/jpeg:https://solerelax.it/wp-content/uploads/2023/09/Viaggio-attraverso-le-note-del-cinema-15-ottobre-K.DES-Kiosco-Desenzani-.jpg
END:VEVENT
END:VCALENDAR