BEGIN:VCALENDAR
VERSION:2.0
PRODID:-//Sole Relax - ECPv4.5.13//NONSGML v1.0//EN
CALSCALE:GREGORIAN
METHOD:PUBLISH
X-WR-CALNAME:Sole Relax
X-ORIGINAL-URL:https://solerelax.it
X-WR-CALDESC:Events for Sole Relax
BEGIN:VEVENT
DTSTART;TZID=UTC+0:20231001T150000
DTEND;TZID=UTC+0:20231001T190000
DTSTAMP:20260423T083730
CREATED:20230918T085708Z
LAST-MODIFIED:20230921T064805Z
UID:6159-1696172400-1696186800@solerelax.it
SUMMARY:Beach Fun Ottobre Cala de Or
DESCRIPTION:
URL:https://solerelax.it/event/beach-fun-settembre-cala-de-or-2/
LOCATION:Via Zamboni - Loc. Spiaggia d'Oro\, Desenzano del Garda\, Brescia\, 25015\, Italia
CATEGORIES:Bar Cala de Or
ATTACH;FMTTYPE=image/jpeg:https://solerelax.it/wp-content/uploads/2023/09/beach-fun-tutte-le-domeniche-settembre-ed-ottobre-.jpg
END:VEVENT
BEGIN:VEVENT
DTSTART;TZID=UTC+0:20231001T170000
DTEND;TZID=UTC+0:20231001T190000
DTSTAMP:20260423T083730
CREATED:20230918T090436Z
LAST-MODIFIED:20230918T090436Z
UID:6161-1696179600-1696186800@solerelax.it
SUMMARY:Live Sunday K.DES
DESCRIPTION:
URL:https://solerelax.it/event/live-sunday-k-des-7/
LOCATION:via Zanardelli\, Castiglione delle Stiviere\, Brescia\, 46043\, Italia
CATEGORIES:K.des Kiosco Desenzani
ATTACH;FMTTYPE=image/jpeg:https://solerelax.it/wp-content/uploads/2023/09/live-sunday-1-ottobre-k.des-.jpg
END:VEVENT
BEGIN:VEVENT
DTSTART;TZID=UTC+0:20231001T173000
DTEND;TZID=UTC+0:20231001T190000
DTSTAMP:20260423T083730
CREATED:20230921T064719Z
LAST-MODIFIED:20230921T064719Z
UID:6168-1696181400-1696186800@solerelax.it
SUMMARY:Salotto Musicale Bar al Parco Pastore
DESCRIPTION:
URL:https://solerelax.it/event/salotto-musicale-bar-al-parco-pastore/
LOCATION:Viale Boschetti 8\, Castiglione Delle Stiviere\, Mantova\, 46043\, Italia
CATEGORIES:Bar al Parco
ATTACH;FMTTYPE=image/jpeg:https://solerelax.it/wp-content/uploads/2023/09/salotto-musicale-domenica-1-ottobre-.jpg
END:VEVENT
END:VCALENDAR