BEGIN:VCALENDAR
VERSION:2.0
PRODID:-//Sole Relax - ECPv4.5.13//NONSGML v1.0//EN
CALSCALE:GREGORIAN
METHOD:PUBLISH
X-WR-CALNAME:Sole Relax
X-ORIGINAL-URL:https://solerelax.it
X-WR-CALDESC:Events for Sole Relax
BEGIN:VEVENT
DTSTART;TZID=UTC+0:20230917T200000
DTEND;TZID=UTC+0:20230917T233000
DTSTAMP:20260423T100755
CREATED:20230823T122546Z
LAST-MODIFIED:20230823T122546Z
UID:6127-1694980800-1694993400@solerelax.it
SUMMARY:The Final Karaoke con Dj Angela a Bar al Parco Pastore
DESCRIPTION:
URL:https://solerelax.it/event/the-final-karaoke-dj-angela-bar-al-parco-pastore/
LOCATION:Viale Boschetti 8\, Castiglione Delle Stiviere\, Mantova\, 46043\, Italia
CATEGORIES:Bar al Parco
ATTACH;FMTTYPE=image/jpeg:https://solerelax.it/wp-content/uploads/2023/08/Karaoke-la-finale-17-settembre-dj-angela-.jpg
END:VEVENT
END:VCALENDAR