BEGIN:VCALENDAR
VERSION:2.0
PRODID:-//Sole Relax - ECPv4.5.13//NONSGML v1.0//EN
CALSCALE:GREGORIAN
METHOD:PUBLISH
X-WR-CALNAME:Sole Relax
X-ORIGINAL-URL:https://solerelax.it
X-WR-CALDESC:Events for Sole Relax
BEGIN:VEVENT
DTSTART;TZID=UTC+0:20230903T150000
DTEND;TZID=UTC+0:20230903T230000
DTSTAMP:20260423T101450
CREATED:20230823T123428Z
LAST-MODIFIED:20230823T123428Z
UID:6132-1693753200-1693782000@solerelax.it
SUMMARY:Beach Fun Cala de Or
DESCRIPTION:
URL:https://solerelax.it/event/beach-fun-cala-de-or-14/
LOCATION:Via Zamboni - Loc. Spiaggia d'Oro\, Desenzano del Garda\, Brescia\, 25015\, Italia
CATEGORIES:Bar Cala de Or
ATTACH;FMTTYPE=image/jpeg:https://solerelax.it/wp-content/uploads/2023/04/beach-fun-tutte-le-domeniche-a-Cala-de-Or-.jpg
END:VEVENT
BEGIN:VEVENT
DTSTART;TZID=UTC+0:20230903T203000
DTEND;TZID=UTC+0:20230903T233000
DTSTAMP:20260423T101450
CREATED:20230823T122258Z
LAST-MODIFIED:20230823T122258Z
UID:6123-1693773000-1693783800@solerelax.it
SUMMARY:Special 70's - 80's - 90's a Bar al Parco Pastore
DESCRIPTION:
URL:https://solerelax.it/event/special-70s-80s-90s-bar-al-parco-pastore/
LOCATION:Viale Boschetti 8\, Castiglione Delle Stiviere\, Mantova\, 46043\, Italia
CATEGORIES:Bar al Parco
ATTACH;FMTTYPE=image/jpeg:https://solerelax.it/wp-content/uploads/2023/08/70-80-90-special-domenica-3-settembre-2023-dj-benda-.jpg
END:VEVENT
END:VCALENDAR