BEGIN:VCALENDAR
VERSION:2.0
PRODID:-//Sole Relax - ECPv4.5.13//NONSGML v1.0//EN
CALSCALE:GREGORIAN
METHOD:PUBLISH
X-WR-CALNAME:Sole Relax
X-ORIGINAL-URL:https://solerelax.it
X-WR-CALDESC:Events for Sole Relax
BEGIN:VEVENT
DTSTART;TZID=UTC+0:20230815T150000
DTEND;TZID=UTC+0:20230815T230000
DTSTAMP:20260423T113441
CREATED:20230731T142850Z
LAST-MODIFIED:20230731T142850Z
UID:6105-1692111600-1692140400@solerelax.it
SUMMARY:Ferragosto a Cala de Or
DESCRIPTION:
URL:https://solerelax.it/event/ferragosto-cala-de-or/
LOCATION:Via Zamboni - Loc. Spiaggia d'Oro\, Desenzano del Garda\, Brescia\, 25015\, Italia
CATEGORIES:Bar Cala de Or
END:VEVENT
BEGIN:VEVENT
DTSTART;TZID=UTC+0:20230815T160000
DTEND;TZID=UTC+0:20230815T220000
DTSTAMP:20260423T113441
CREATED:20230731T141857Z
LAST-MODIFIED:20230731T141943Z
UID:6100-1692115200-1692136800@solerelax.it
SUMMARY:Karaoke e Festa dell'Anguria per il Ferragosto a Bar al Parco Pastore
DESCRIPTION:
URL:https://solerelax.it/event/karaoke-festa-dellanguria-ferragosto-bar-al-parco-pastore/
LOCATION:Viale Boschetti 8\, Castiglione Delle Stiviere\, Mantova\, 46043\, Italia
CATEGORIES:Bar al Parco
ATTACH;FMTTYPE=image/jpeg:https://solerelax.it/wp-content/uploads/2023/07/ferragosto-al-pastore-2023-.jpg
END:VEVENT
END:VCALENDAR