BEGIN:VCALENDAR
VERSION:2.0
PRODID:-//Sole Relax - ECPv4.5.13//NONSGML v1.0//EN
CALSCALE:GREGORIAN
METHOD:PUBLISH
X-WR-CALNAME:Sole Relax
X-ORIGINAL-URL:https://solerelax.it
X-WR-CALDESC:Events for Sole Relax
BEGIN:VEVENT
DTSTART;TZID=UTC+0:20230813T150000
DTEND;TZID=UTC+0:20230813T210000
DTSTAMP:20260423T113332
CREATED:20230728T155231Z
LAST-MODIFIED:20230728T155231Z
UID:6082-1691938800-1691960400@solerelax.it
SUMMARY:Beach Fun Cala de Or
DESCRIPTION:
URL:https://solerelax.it/event/beach-fun-cala-de-or-11/
LOCATION:Via Zamboni - Loc. Spiaggia d'Oro\, Desenzano del Garda\, Brescia\, 25015\, Italia
CATEGORIES:Bar Cala de Or
ATTACH;FMTTYPE=image/jpeg:https://solerelax.it/wp-content/uploads/2023/04/beach-fun-tutte-le-domeniche-a-Cala-de-Or-.jpg
END:VEVENT
BEGIN:VEVENT
DTSTART;TZID=UTC+0:20230813T203000
DTEND;TZID=UTC+0:20230813T233000
DTSTAMP:20260423T113332
CREATED:20230615T082638Z
LAST-MODIFIED:20230615T082638Z
UID:6028-1691958600-1691969400@solerelax.it
SUMMARY:70 80 90 al K.DES con dj Benda
DESCRIPTION:
URL:https://solerelax.it/event/70-80-90-al-k-des-dj-benda/
LOCATION:via Zanardelli\, Castiglione delle Stiviere\, Brescia\, 46043\, Italia
CATEGORIES:K.des Kiosco Desenzani
ATTACH;FMTTYPE=image/jpeg:https://solerelax.it/wp-content/uploads/2023/06/70-80-90-al-k.des-13-agosto-dj-benda-.jpg
END:VEVENT
END:VCALENDAR