BEGIN:VCALENDAR
VERSION:2.0
PRODID:-//Sole Relax - ECPv4.5.13//NONSGML v1.0//EN
CALSCALE:GREGORIAN
METHOD:PUBLISH
X-WR-CALNAME:Sole Relax
X-ORIGINAL-URL:https://solerelax.it
X-WR-CALDESC:Events for Sole Relax
BEGIN:VEVENT
DTSTART;TZID=UTC+0:20230730T150000
DTEND;TZID=UTC+0:20230730T203000
DTSTAMP:20260423T125815
CREATED:20230613T081900Z
LAST-MODIFIED:20230613T081900Z
UID:6001-1690729200-1690749000@solerelax.it
SUMMARY:Beach Fun Cala de Or
DESCRIPTION:
URL:https://solerelax.it/event/beach-fun-cala-de-or-10/
LOCATION:Via Zamboni - Loc. Spiaggia d'Oro\, Desenzano del Garda\, Brescia\, 25015\, Italia
CATEGORIES:Bar Cala de Or
ATTACH;FMTTYPE=image/jpeg:https://solerelax.it/wp-content/uploads/2023/04/beach-fun-tutte-le-domeniche-a-Cala-de-Or-.jpg
END:VEVENT
BEGIN:VEVENT
DTSTART;TZID=UTC+0:20230730T183000
DTEND;TZID=UTC+0:20230730T220000
DTSTAMP:20260423T125815
CREATED:20230615T083357Z
LAST-MODIFIED:20230615T083421Z
UID:6031-1690741800-1690754400@solerelax.it
SUMMARY:Live Sunday K.DES
DESCRIPTION:
URL:https://solerelax.it/event/live-sunday-k-des-6/
LOCATION:via Zanardelli\, Castiglione delle Stiviere\, Brescia\, 46043\, Italia
CATEGORIES:K.des Kiosco Desenzani
ATTACH;FMTTYPE=image/jpeg:https://solerelax.it/wp-content/uploads/2023/06/live-sunday-30-luglio-charlie-tomaselli-.jpg
END:VEVENT
BEGIN:VEVENT
DTSTART;TZID=UTC+0:20230730T190000
DTEND;TZID=UTC+0:20230730T233000
DTSTAMP:20260423T125815
CREATED:20230613T085944Z
LAST-MODIFIED:20230719T085743Z
UID:6015-1690743600-1690759800@solerelax.it
SUMMARY:Karaoke Bar al Parco Pastore
DESCRIPTION:
URL:https://solerelax.it/event/karaoke-bar-al-parco-pastore-13/
LOCATION:Viale Boschetti 8\, Castiglione Delle Stiviere\, Mantova\, 46043\, Italia
CATEGORIES:Bar al Parco
ATTACH;FMTTYPE=image/jpeg:https://solerelax.it/wp-content/uploads/2023/06/dj-angela-karaoke-agosto-.jpg
END:VEVENT
END:VCALENDAR